BEGIN:VCALENDAR
VERSION:2.0
PRODID:-//Strafford Regional Planning Commission - ECPv6.15.20//NONSGML v1.0//EN
CALSCALE:GREGORIAN
METHOD:PUBLISH
X-ORIGINAL-URL:https://straffordrpcnh.gov
X-WR-CALDESC:Events for Strafford Regional Planning Commission
REFRESH-INTERVAL;VALUE=DURATION:PT1H
X-Robots-Tag:noindex
X-PUBLISHED-TTL:PT1H
BEGIN:VTIMEZONE
TZID:America/New_York
BEGIN:DAYLIGHT
TZOFFSETFROM:-0500
TZOFFSETTO:-0400
TZNAME:EDT
DTSTART:20240310T070000
END:DAYLIGHT
BEGIN:STANDARD
TZOFFSETFROM:-0400
TZOFFSETTO:-0500
TZNAME:EST
DTSTART:20241103T060000
END:STANDARD
BEGIN:DAYLIGHT
TZOFFSETFROM:-0500
TZOFFSETTO:-0400
TZNAME:EDT
DTSTART:20250309T070000
END:DAYLIGHT
BEGIN:STANDARD
TZOFFSETFROM:-0400
TZOFFSETTO:-0500
TZNAME:EST
DTSTART:20251102T060000
END:STANDARD
BEGIN:DAYLIGHT
TZOFFSETFROM:-0500
TZOFFSETTO:-0400
TZNAME:EDT
DTSTART:20260308T070000
END:DAYLIGHT
BEGIN:STANDARD
TZOFFSETFROM:-0400
TZOFFSETTO:-0500
TZNAME:EST
DTSTART:20261101T060000
END:STANDARD
END:VTIMEZONE
BEGIN:VEVENT
DTSTART;TZID=America/New_York:20251003T090000
DTEND;TZID=America/New_York:20251003T103000
DTSTAMP:20260423T174250
CREATED:20250926T131943Z
LAST-MODIFIED:20250926T131944Z
UID:10000502-1759482000-1759487400@straffordrpcnh.gov
SUMMARY:Technical Advisory Committee
DESCRIPTION:The Technical Advisory Committee of the Strafford Metropolitan Planning Commission occurs on the first Friday of each month from 9:00 – 10:30 a.m. In accordance with RSA 91:A\, the Commission requires a minimum of an in-person quorum. To organize this\, the Commission staff will confirm the necessary in-person attendance. It is the preference of the Commission that others participate via Zoom\, however\, guests may attend the meeting at the SRPC Office. All participants\, both in-person and virtual\, can communicate contemporaneously.
URL:https://straffordrpcnh.gov/event/technical-advisory-committee-3-5-3-20/
LOCATION:Hybrid (In-Person and Online)\, 150 Wakefield Street\, Suite 12\, Rochester\, NH\, 03867\, United States
CATEGORIES:MPO Committees,Technical Advisory Committee
ATTACH;FMTTYPE=image/png:https://straffordrpcnh.gov/wp-content/uploads/2021/10/eventtile_tac.png
ORGANIZER;CN="Colin Lentz":MAILTO:clentz@straffordrpcnh.gov
END:VEVENT
BEGIN:VEVENT
DTSTART;TZID=America/New_York:20251017T080000
DTEND;TZID=America/New_York:20251017T090000
DTSTAMP:20260423T174250
CREATED:20240913T201105Z
LAST-MODIFIED:20240913T201105Z
UID:10000218-1760688000-1760691600@straffordrpcnh.gov
SUMMARY:Executive Committee
DESCRIPTION:
URL:https://straffordrpcnh.gov/event/executive-committee-7-2-19/2025-10-17/
LOCATION:Hybrid (In-Person and Online)\, 150 Wakefield Street\, Suite 12\, Rochester\, NH\, 03867\, United States
CATEGORIES:Executive Committee
ATTACH;FMTTYPE=image/png:https://straffordrpcnh.gov/wp-content/uploads/2020/06/eventtile_ec.png
ORGANIZER;CN="Megan Taylor-Fetter":MAILTO:mtaylorfetter@straffordrpcnh.gov
END:VEVENT
BEGIN:VEVENT
DTSTART;TZID=America/New_York:20251017T090000
DTEND;TZID=America/New_York:20251017T103000
DTSTAMP:20260423T174250
CREATED:20251010T164740Z
LAST-MODIFIED:20251010T164741Z
UID:10000657-1760691600-1760697000@straffordrpcnh.gov
SUMMARY:Commissioner Meeting
DESCRIPTION:This hybrid meeting requires a quorum at our Rochester office\, however you may still attend remotely. Join the meeting in Zoom: https://us02web.zoom.us/j/85802372877  \nThe following draft schedule for the next year is based upon reformatting what is currently the Policy Meeting\, to allow for quarterly meetings of the: \n\nEDD: Economic Development District Board of Directors (Commissioners)\nMPO: Metropolitan Planning Organization Policy Com. (Commissioners + Partners)\nRPC: Regional Planning Commission (Commissioners)\n\nFrom time to time\, we will need to conduct joint meetings between the MPO\, EDD\, and RPC.  The tentative 3rd Friday of the month (9AM) schedule  is as follows for the next year: \nFri. Jul. 18\, 2025 9-10:30 AM\nFri. Aug. 15\, 2025 9-10:30 AM\nFri. Sep. 19\, 2025 9-10:30 AM\nThur. Sep. 25\, 2025 3:45-5:30 PM\nFri. Oct. 17\, 2025 9-10:30 AM\nFri\, Nov. 21\, 2025 9-10:30 AM\nThur. Dec. 11\, 2025 3:45-5:30 PM\nFri. Dec. 19\, 2025 9-10:30 AM\nFri\, Jan. 16\, 2026 9-10:30 AM\nFri. Feb. 20\, 2026 9-10:30 AM\nThu. Feb. 26\, 2026 3:45-5:30 PM\nFri. Mar. 20\, 2026 9-10:30 AM\nFri. Apr. 17\, 2026 9-10:30 AM\nFri. May 15\, 2026 9-10:30 AM\nFri. Jun. 19\, 2026 9-10:30 AM\nThu. June 25\, 2026 11 AM – 2 PM
URL:https://straffordrpcnh.gov/event/commissioner-meeting-11-17/
LOCATION:Hybrid (In-Person and Online)\, 150 Wakefield Street\, Suite 12\, Rochester\, NH\, 03867\, United States
CATEGORIES:Commission,EDD Committees,MPO Committees,Policy Committee,SRPC Committees
ATTACH;FMTTYPE=image/png:https://straffordrpcnh.gov/wp-content/uploads/2021/09/eventtile_commmissioners.png
ORGANIZER;CN="Megan Taylor-Fetter":MAILTO:mtaylorfetter@straffordrpcnh.gov
END:VEVENT
BEGIN:VEVENT
DTSTART;TZID=America/New_York:20251017T090000
DTEND;TZID=America/New_York:20251017T103000
DTSTAMP:20260423T174250
CREATED:20251010T165333Z
LAST-MODIFIED:20251010T165333Z
UID:10000659-1760691600-1760697000@straffordrpcnh.gov
SUMMARY:Commissioner Meeting
DESCRIPTION:This hybrid meeting requires a quorum at our Rochester office\, however you may still attend remotely. Join the meeting in Zoom: https://us02web.zoom.us/j/85802372877  \nThe following draft schedule for the next year is based upon reformatting what is currently the Policy Meeting\, to allow for quarterly meetings of the: \n\nEDD: Economic Development District Board of Directors (Commissioners)\nMPO: Metropolitan Planning Organization Policy Com. (Commissioners + Partners)\nRPC: Regional Planning Commission (Commissioners)\n\nFrom time to time\, we will need to conduct joint meetings between the MPO\, EDD\, and RPC.  The tentative 3rd Friday of the month (9AM) schedule  is as follows for the next year: \nFri. Jul. 18\, 2025 9-10:30 AM\nFri. Aug. 15\, 2025 9-10:30 AM\nFri. Sep. 19\, 2025 9-10:30 AM\nThur. Sep. 25\, 2025 3:45-5:30 PM\nFri. Oct. 17\, 2025 9-10:30 AM\nFri\, Nov. 21\, 2025 9-10:30 AM\nThur. Dec. 11\, 2025 3:45-5:30 PM\nFri. Dec. 19\, 2025 9-10:30 AM\nFri\, Jan. 16\, 2026 9-10:30 AM\nFri. Feb. 20\, 2026 9-10:30 AM\nThu. Feb. 26\, 2026 3:45-5:30 PM\nFri. Mar. 20\, 2026 9-10:30 AM\nFri. Apr. 17\, 2026 9-10:30 AM\nFri. May 15\, 2026 9-10:30 AM\nFri. Jun. 19\, 2026 9-10:30 AM\nThu. June 25\, 2026 11 AM – 2 PM
URL:https://straffordrpcnh.gov/event/commissioner-meeting-11-18/
LOCATION:Hybrid (In-Person and Online)\, 150 Wakefield Street\, Suite 12\, Rochester\, NH\, 03867\, United States
CATEGORIES:Commission,EDD Committees,MPO Committees,Policy Committee,SRPC Committees
ATTACH;FMTTYPE=image/png:https://straffordrpcnh.gov/wp-content/uploads/2021/09/eventtile_commmissioners.png
ORGANIZER;CN="Megan Taylor-Fetter":MAILTO:mtaylorfetter@straffordrpcnh.gov
END:VEVENT
END:VCALENDAR