BEGIN:VCALENDAR
VERSION:2.0
PRODID:-//Strafford Regional Planning Commission - ECPv6.15.20//NONSGML v1.0//EN
CALSCALE:GREGORIAN
METHOD:PUBLISH
X-ORIGINAL-URL:https://straffordrpcnh.gov
X-WR-CALDESC:Events for Strafford Regional Planning Commission
REFRESH-INTERVAL;VALUE=DURATION:PT1H
X-Robots-Tag:noindex
X-PUBLISHED-TTL:PT1H
BEGIN:VTIMEZONE
TZID:America/New_York
BEGIN:DAYLIGHT
TZOFFSETFROM:-0500
TZOFFSETTO:-0400
TZNAME:EDT
DTSTART:20240310T070000
END:DAYLIGHT
BEGIN:STANDARD
TZOFFSETFROM:-0400
TZOFFSETTO:-0500
TZNAME:EST
DTSTART:20241103T060000
END:STANDARD
BEGIN:DAYLIGHT
TZOFFSETFROM:-0500
TZOFFSETTO:-0400
TZNAME:EDT
DTSTART:20250309T070000
END:DAYLIGHT
BEGIN:STANDARD
TZOFFSETFROM:-0400
TZOFFSETTO:-0500
TZNAME:EST
DTSTART:20251102T060000
END:STANDARD
BEGIN:DAYLIGHT
TZOFFSETFROM:-0500
TZOFFSETTO:-0400
TZNAME:EDT
DTSTART:20260308T070000
END:DAYLIGHT
BEGIN:STANDARD
TZOFFSETFROM:-0400
TZOFFSETTO:-0500
TZNAME:EST
DTSTART:20261101T060000
END:STANDARD
END:VTIMEZONE
BEGIN:VEVENT
DTSTART;TZID=America/New_York:20250905T090000
DTEND;TZID=America/New_York:20250905T103000
DTSTAMP:20260423T184338
CREATED:20250828T190610Z
LAST-MODIFIED:20250828T190610Z
UID:10000501-1757062800-1757068200@straffordrpcnh.gov
SUMMARY:Technical Advisory Committee
DESCRIPTION:The Technical Advisory Committee of the Strafford Metropolitan Planning Commission occurs on the first Friday of each month from 9:00 – 10:30 a.m. In accordance with RSA 91:A\, the Commission requires a minimum of an in-person quorum. To organize this\, the Commission staff will confirm the necessary in-person attendance. It is the preference of the Commission that others participate via Zoom\, however\, guests may attend the meeting at the SRPC Office. All participants\, both in-person and virtual\, can communicate contemporaneously.
URL:https://straffordrpcnh.gov/event/technical-advisory-committee-3-5-3-18/
LOCATION:Hybrid (In-Person and Online)\, 150 Wakefield Street\, Suite 12\, Rochester\, NH\, 03867\, United States
CATEGORIES:MPO Committees,Technical Advisory Committee
ATTACH;FMTTYPE=image/png:https://straffordrpcnh.gov/wp-content/uploads/2021/10/eventtile_tac.png
ORGANIZER;CN="Colin Lentz":MAILTO:clentz@straffordrpcnh.gov
END:VEVENT
BEGIN:VEVENT
DTSTART;TZID=America/New_York:20250905T090000
DTEND;TZID=America/New_York:20250905T103000
DTSTAMP:20260423T184338
CREATED:20250828T190829Z
LAST-MODIFIED:20250828T190829Z
UID:10000494-1757062800-1757068200@straffordrpcnh.gov
SUMMARY:Technical Advisory Committee
DESCRIPTION:The Technical Advisory Committee of the Strafford Metropolitan Planning Commission occurs on the first Friday of each month from 9:00 – 10:30 a.m. In accordance with RSA 91:A\, the Commission requires a minimum of an in-person quorum. To organize this\, the Commission staff will confirm the necessary in-person attendance. It is the preference of the Commission that others participate via Zoom\, however\, guests may attend the meeting at the SRPC Office. All participants\, both in-person and virtual\, can communicate contemporaneously.
URL:https://straffordrpcnh.gov/event/technical-advisory-committee-3-5-3-19/
LOCATION:Hybrid (In-Person and Online)\, 150 Wakefield Street\, Suite 12\, Rochester\, NH\, 03867\, United States
CATEGORIES:MPO Committees,Technical Advisory Committee
ATTACH;FMTTYPE=image/png:https://straffordrpcnh.gov/wp-content/uploads/2021/10/eventtile_tac.png
ORGANIZER;CN="Colin Lentz":MAILTO:clentz@straffordrpcnh.gov
END:VEVENT
BEGIN:VEVENT
DTSTART;TZID=America/New_York:20250919T080000
DTEND;TZID=America/New_York:20250919T090000
DTSTAMP:20260423T184338
CREATED:20250912T204030Z
LAST-MODIFIED:20250912T204030Z
UID:10000217-1758268800-1758272400@straffordrpcnh.gov
SUMMARY:Executive Committee
DESCRIPTION:
URL:https://straffordrpcnh.gov/event/executive-committee-7-2-19-12/
LOCATION:Hybrid (In-Person and Online)\, 150 Wakefield Street\, Suite 12\, Rochester\, NH\, 03867\, United States
CATEGORIES:Executive Committee
ATTACH;FMTTYPE=image/png:https://straffordrpcnh.gov/wp-content/uploads/2020/06/eventtile_ec.png
ORGANIZER;CN="Megan Taylor-Fetter":MAILTO:mtaylorfetter@straffordrpcnh.gov
END:VEVENT
BEGIN:VEVENT
DTSTART;TZID=America/New_York:20250919T090000
DTEND;TZID=America/New_York:20250919T103000
DTSTAMP:20260423T184338
CREATED:20250912T200911Z
LAST-MODIFIED:20250912T200912Z
UID:10000656-1758272400-1758277800@straffordrpcnh.gov
SUMMARY:Commissioner Meeting
DESCRIPTION:This hybrid meeting requires a quorum at our Rochester office\, however you may still attend remotely. Join the meeting in Zoom: https://us02web.zoom.us/j/85802372877  \nThe following draft schedule for the next year is based upon reformatting what is currently the Policy Meeting\, to allow for quarterly meetings of the: \n\nEDD: Economic Development District Board of Directors (Commissioners)\nMPO: Metropolitan Planning Organization Policy Com. (Commissioners + Partners)\nRPC: Regional Planning Commission (Commissioners)\n\nFrom time to time\, we will need to conduct joint meetings between the MPO\, EDD\, and RPC.  The tentative 3rd Friday of the month (9AM) schedule  is as follows for the next year: \n\nFri. Jul. 12\, 2024 9-10:30 AM Joint meeting MPO Policy/TAC\nFri. Aug. 16\, 2024 9-10:30 AM SRPC MPO\nFri. Sep. 20\, 2024 9-10:30 AM SRPC RPC\nFri. Oct. 18\, 2024 9-10:30 AM SRPC MPO\nFri\, Nov. 15\, 2024 9-10:30 AM SRPC EDD\nFri. Dec. 20\, 2024 9-10:30 AM SRPC RPC\nFri\, Jan. 17\, 2025 9-10:30 AM SRPC MPO\nFri. Feb. 21\, 2025 9-10:30 AM SRPC EDD\nFri. Mar. 21\, 2025 9-10:30 AM SRPC RPC\nFri. Apr. 18\, 2025 9-10:30 AM SRPC MPO\nFri. May 16\, 2025 9-10:30 AM SRPC EDD\nFri. Jun. 20\, 2025 9-10:30 AM SRPC RPC
URL:https://straffordrpcnh.gov/event/commissioner-meeting-11-14/
LOCATION:Hybrid (In-Person and Online)\, 150 Wakefield Street\, Suite 12\, Rochester\, NH\, 03867\, United States
CATEGORIES:Commission,EDD Committees,MPO Committees,Policy Committee,SRPC Committees
ATTACH;FMTTYPE=image/png:https://straffordrpcnh.gov/wp-content/uploads/2021/09/eventtile_commmissioners.png
ORGANIZER;CN="Megan Taylor-Fetter":MAILTO:mtaylorfetter@straffordrpcnh.gov
END:VEVENT
BEGIN:VEVENT
DTSTART;TZID=America/New_York:20250919T103000
DTEND;TZID=America/New_York:20250919T113000
DTSTAMP:20260423T184338
CREATED:20250916T183709Z
LAST-MODIFIED:20250916T183709Z
UID:10000762-1758277800-1758281400@straffordrpcnh.gov
SUMMARY:Regional Plan Subcommittee Meeting
DESCRIPTION:
URL:https://straffordrpcnh.gov/event/regional-plan-subcommittee-meeting-3/
LOCATION:SRPC Office\, 150 Wakefield Street\, Suite 12\, Rochester\, NH\, 03867\, United States
END:VEVENT
BEGIN:VEVENT
DTSTART;TZID=America/New_York:20250925T160000
DTEND;TZID=America/New_York:20250925T173000
DTSTAMP:20260423T184338
CREATED:20250923T161317Z
LAST-MODIFIED:20250923T161353Z
UID:10000763-1758816000-1758821400@straffordrpcnh.gov
SUMMARY:Commissioner Meeting-Field Trip
DESCRIPTION:Housing Discussion with SRPC Communities and the UNH Student Planning Club \nJoin SRPC Commissioners as they share recent housing initiatives\, including zoning and regulatory changes\, from their community. Students from UNH’s Planning Club will lead a group discussion about housing challenges and solutions. Join us for a fun opportunity to learn more about work across the region and connect with the next generation of planners.\n  \nWhen: September 25\, 2025\, from 4:00 to 5:30 pm\nWhere: Barton Hall\, University of NH\, Durham\, NH (directions will be emailed to registrants) \nAgenda:  \n\n4:00 to 4:15 pm: Networking & Introductions\n\n\n4:15 to 5:00 pm: Commissioner Presentations and Questions\n\n\n5:00 to 5:30 pm: Discussion led by the UNH Planning Club\n\nParking & Directions: \n\nParking Address: Enter “20 Sage Way” in your GPS ($1.85/hr)\nParking App: ParkMobile – we recommend downloading and creating an account ahead of time\nEntrance: Use the front entrance of Barton Hall (rear entrance leads to a veterinary clinic)\nRoom: Proceed to Room 134\, located to the right after entering\nStart Time: The event will begin at 4:00 PM
URL:https://straffordrpcnh.gov/event/commissioner-meeting-field-trip/
LOCATION:NH
END:VEVENT
END:VCALENDAR