BEGIN:VCALENDAR
VERSION:2.0
PRODID:-//Strafford Regional Planning Commission - ECPv6.15.20//NONSGML v1.0//EN
CALSCALE:GREGORIAN
METHOD:PUBLISH
X-WR-CALNAME:Strafford Regional Planning Commission
X-ORIGINAL-URL:https://straffordrpcnh.gov
X-WR-CALDESC:Events for Strafford Regional Planning Commission
REFRESH-INTERVAL;VALUE=DURATION:PT1H
X-Robots-Tag:noindex
X-PUBLISHED-TTL:PT1H
BEGIN:VTIMEZONE
TZID:America/New_York
BEGIN:DAYLIGHT
TZOFFSETFROM:-0500
TZOFFSETTO:-0400
TZNAME:EDT
DTSTART:20240310T070000
END:DAYLIGHT
BEGIN:STANDARD
TZOFFSETFROM:-0400
TZOFFSETTO:-0500
TZNAME:EST
DTSTART:20241103T060000
END:STANDARD
BEGIN:DAYLIGHT
TZOFFSETFROM:-0500
TZOFFSETTO:-0400
TZNAME:EDT
DTSTART:20250309T070000
END:DAYLIGHT
BEGIN:STANDARD
TZOFFSETFROM:-0400
TZOFFSETTO:-0500
TZNAME:EST
DTSTART:20251102T060000
END:STANDARD
BEGIN:DAYLIGHT
TZOFFSETFROM:-0500
TZOFFSETTO:-0400
TZNAME:EDT
DTSTART:20260308T070000
END:DAYLIGHT
BEGIN:STANDARD
TZOFFSETFROM:-0400
TZOFFSETTO:-0500
TZNAME:EST
DTSTART:20261101T060000
END:STANDARD
END:VTIMEZONE
BEGIN:VEVENT
DTSTART;TZID=America/New_York:20250801T090000
DTEND;TZID=America/New_York:20250801T103000
DTSTAMP:20260423T195052
CREATED:20250724T153917Z
LAST-MODIFIED:20250724T153917Z
UID:10000500-1754038800-1754044200@straffordrpcnh.gov
SUMMARY:Technical Advisory Committee-Cancelled
DESCRIPTION:The Technical Advisory Committee of the Strafford Metropolitan Planning Commission occurs on the first Friday of each month from 9:00 – 10:30 a.m. In accordance with RSA 91:A\, the Commission requires a minimum of an in-person quorum. To organize this\, the Commission staff will confirm the necessary in-person attendance. It is the preference of the Commission that others participate via Zoom\, however\, guests may attend the meeting at the SRPC Office. All participants\, both in-person and virtual\, can communicate contemporaneously.
URL:https://straffordrpcnh.gov/event/technical-advisory-committee-3-5-3-17/
LOCATION:Hybrid (In-Person and Online)\, 150 Wakefield Street\, Suite 12\, Rochester\, NH\, 03867\, United States
CATEGORIES:MPO Committees,Technical Advisory Committee
ATTACH;FMTTYPE=image/png:https://straffordrpcnh.gov/wp-content/uploads/2021/10/eventtile_tac.png
ORGANIZER;CN="Colin Lentz":MAILTO:clentz@straffordrpcnh.gov
END:VEVENT
BEGIN:VEVENT
DTSTART;VALUE=DATE:20250808
DTEND;VALUE=DATE:20250809
DTSTAMP:20260423T195052
CREATED:20250807T193909Z
LAST-MODIFIED:20250807T194018Z
UID:10000756-1754611200-1754697599@straffordrpcnh.gov
SUMMARY:The SRPC Office will be closed for the annual staff picnic.
DESCRIPTION:
URL:https://straffordrpcnh.gov/event/the-srpc-office-will-be-closed-for-the-annual-staff-picnic/
LOCATION:NH
END:VEVENT
BEGIN:VEVENT
DTSTART;TZID=America/New_York:20250815T080000
DTEND;TZID=America/New_York:20250815T090000
DTSTAMP:20260423T195052
CREATED:20250807T204712Z
LAST-MODIFIED:20250807T204713Z
UID:10000216-1755244800-1755248400@straffordrpcnh.gov
SUMMARY:Executive Committee
DESCRIPTION:
URL:https://straffordrpcnh.gov/event/executive-committee-7-2-19-11/
LOCATION:Hybrid (In-Person and Online)\, 150 Wakefield Street\, Suite 12\, Rochester\, NH\, 03867\, United States
CATEGORIES:Executive Committee
ATTACH;FMTTYPE=image/png:https://straffordrpcnh.gov/wp-content/uploads/2020/06/eventtile_ec.png
ORGANIZER;CN="Megan Taylor-Fetter":MAILTO:mtaylorfetter@straffordrpcnh.gov
END:VEVENT
BEGIN:VEVENT
DTSTART;TZID=America/New_York:20250815T090000
DTEND;TZID=America/New_York:20250815T103000
DTSTAMP:20260423T195052
CREATED:20250807T192214Z
LAST-MODIFIED:20250807T192455Z
UID:10000655-1755248400-1755253800@straffordrpcnh.gov
SUMMARY:Commissioner Meeting
DESCRIPTION:This hybrid meeting requires a quorum at our Rochester office\, however you may still attend remotely. Join the meeting in Zoom: https://us02web.zoom.us/j/85802372877  \nThe following draft schedule for the next year is based upon reformatting what is currently the Policy Meeting\, to allow for quarterly meetings of the: \n\nEDD: Economic Development District Board of Directors (Commissioners)\nMPO: Metropolitan Planning Organization Policy Com. (Commissioners + Partners)\nRPC: Regional Planning Commission (Commissioners)\n\nFrom time to time\, we will need to conduct joint meetings between the MPO\, EDD\, and RPC.  The tentative 3rd Friday of the month (9AM) schedule  is as follows for the next year: \n\nFri. Jul. 18\, 2025 9-10:30 AM SRPC MPO\nFri. Aug. 15\, 2025 9-10:30 AM SRPC EDD\nFri. Sep. 19\, 2025 9-10:30 AM SRPC RPC\nThur. Sep. 25\, 2025 3:45-5:30 PM Field Trip/ TBD RPC/EDD\nFri. Oct. 17\, 2025 9-10:30 AM SRPC MPO\nFri\, Nov. 21\, 2025 9-10:30 AM SRPC EDD\nThur. Dec. 11\, 2025 3:45-5:30 PM SRPC Commissioner 101\nFri. Dec. 19\, 2025 9-10:30 AM SRPC RPC\nFri\, Jan. 16\, 2026 9-10:30 AM SRPC MPO\nFri. Feb. 20\, 2026 9-10:30 AM SRPC EDD\nThu. Feb. 26\, 2026 3:45-5:30 PM Field Trip/ TBD MPO\nFri. Mar. 20\, 2026 9-10:30 AM SRPC RPC\nFri. Apr. 17\, 2026 9-10:30 AM SRPC MPO\nFri. May 15\, 2026 9-10:30 AM SRPC EDD\nFri. Jun. 19\, 2026 9-10:30 AM SRPC RPC\nThu. June 25\, 2026 11 AM – 2 PM TBD Annual Meeting Event
URL:https://straffordrpcnh.gov/event/commissioner-meeting-11-13/
LOCATION:Hybrid (In-Person and Online)\, 150 Wakefield Street\, Suite 12\, Rochester\, NH\, 03867\, United States
CATEGORIES:Commission,EDD Committees,MPO Committees,Policy Committee,SRPC Committees
ATTACH;FMTTYPE=image/png:https://straffordrpcnh.gov/wp-content/uploads/2021/09/eventtile_commmissioners.png
ORGANIZER;CN="Megan Taylor-Fetter":MAILTO:mtaylorfetter@straffordrpcnh.gov
END:VEVENT
BEGIN:VEVENT
DTSTART;TZID=America/New_York:20250815T103000
DTEND;TZID=America/New_York:20250815T113000
DTSTAMP:20260423T195052
CREATED:20250813T134517Z
LAST-MODIFIED:20250814T131906Z
UID:10000758-1755253800-1755257400@straffordrpcnh.gov
SUMMARY:Regional Plan Subcommittee Meeting
DESCRIPTION:
URL:https://straffordrpcnh.gov/event/regional-plan-subcommittee-meeting-2/
LOCATION:SRPC Office\, 150 Wakefield Street\, Suite 12\, Rochester\, NH\, 03867\, United States
END:VEVENT
END:VCALENDAR