BEGIN:VCALENDAR
VERSION:2.0
PRODID:-//Strafford Regional Planning Commission - ECPv6.15.20//NONSGML v1.0//EN
CALSCALE:GREGORIAN
METHOD:PUBLISH
X-WR-CALNAME:Strafford Regional Planning Commission
X-ORIGINAL-URL:https://straffordrpcnh.gov
X-WR-CALDESC:Events for Strafford Regional Planning Commission
REFRESH-INTERVAL;VALUE=DURATION:PT1H
X-Robots-Tag:noindex
X-PUBLISHED-TTL:PT1H
BEGIN:VTIMEZONE
TZID:America/New_York
BEGIN:DAYLIGHT
TZOFFSETFROM:-0500
TZOFFSETTO:-0400
TZNAME:EDT
DTSTART:20230312T070000
END:DAYLIGHT
BEGIN:STANDARD
TZOFFSETFROM:-0400
TZOFFSETTO:-0500
TZNAME:EST
DTSTART:20231105T060000
END:STANDARD
BEGIN:DAYLIGHT
TZOFFSETFROM:-0500
TZOFFSETTO:-0400
TZNAME:EDT
DTSTART:20240310T070000
END:DAYLIGHT
BEGIN:STANDARD
TZOFFSETFROM:-0400
TZOFFSETTO:-0500
TZNAME:EST
DTSTART:20241103T060000
END:STANDARD
BEGIN:DAYLIGHT
TZOFFSETFROM:-0500
TZOFFSETTO:-0400
TZNAME:EDT
DTSTART:20250309T070000
END:DAYLIGHT
BEGIN:STANDARD
TZOFFSETFROM:-0400
TZOFFSETTO:-0500
TZNAME:EST
DTSTART:20251102T060000
END:STANDARD
END:VTIMEZONE
BEGIN:VEVENT
DTSTART;TZID=America/New_York:20241101T090000
DTEND;TZID=America/New_York:20241101T103000
DTSTAMP:20260424T070425
CREATED:20241025T193324Z
LAST-MODIFIED:20241025T193535Z
UID:10000491-1730451600-1730457000@straffordrpcnh.gov
SUMMARY:Technical Advisory Committee
DESCRIPTION:The Technical Advisory Committee of the Strafford Metropolitan Planning Commission occurs on the first Friday of each month from 9:00 – 10:30 a.m. In accordance with RSA 91:A\, the Commission requires a minimum of an in-person quorum. To organize this\, the Commission staff will confirm the necessary in-person attendance. It is the preference of the Commission that others participate via Zoom\, however\, guests may attend the meeting at the SRPC Office. All participants\, both in-person and virtual\, can communicate contemporaneously.
URL:https://straffordrpcnh.gov/event/technical-advisory-committee-3-5-3-10/
LOCATION:Hybrid (In-Person and Online)\, 150 Wakefield Street\, Suite 12\, Rochester\, NH\, 03867\, United States
CATEGORIES:MPO Committees,Technical Advisory Committee
ATTACH;FMTTYPE=image/png:https://straffordrpcnh.gov/wp-content/uploads/2021/10/eventtile_tac.png
ORGANIZER;CN="Colin Lentz":MAILTO:clentz@straffordrpcnh.gov
END:VEVENT
BEGIN:VEVENT
DTSTART;TZID=America/New_York:20241101T150000
DTEND;TZID=America/New_York:20241101T170000
DTSTAMP:20260424T070425
CREATED:20241023T201214Z
LAST-MODIFIED:20241023T201905Z
UID:10000718-1730473200-1730480400@straffordrpcnh.gov
SUMMARY:Commissioner 101
DESCRIPTION:Objectives: \n\nCommissioner Engagement\n\nGet to know your peers\nGet to know the staff\nBecome a more engaged representative of your community\n\n\nCommissioner Empowerment\n\nHow to be a good commissioner\nSRPC community services\nVariety of SRPC programs
URL:https://straffordrpcnh.gov/event/commissioner-101/
LOCATION:SRPC Office\, 150 Wakefield Street\, Suite 12\, Rochester\, NH\, 03867\, United States
CATEGORIES:Commission,SRPC Committees
ATTACH;FMTTYPE=image/png:https://straffordrpcnh.gov/wp-content/uploads/2021/09/eventtile_commmissioners.png
ORGANIZER;CN="Megan Taylor-Fetter":MAILTO:mtaylorfetter@straffordrpcnh.gov
END:VEVENT
BEGIN:VEVENT
DTSTART;TZID=America/New_York:20241115T080000
DTEND;TZID=America/New_York:20241115T090000
DTSTAMP:20260424T070425
CREATED:20241108T204654Z
LAST-MODIFIED:20241108T204654Z
UID:10000204-1731657600-1731661200@straffordrpcnh.gov
SUMMARY:Executive Committee
DESCRIPTION:
URL:https://straffordrpcnh.gov/event/executive-committee-7-2-19-3/
LOCATION:Hybrid (In-Person and Online)\, 150 Wakefield Street\, Suite 12\, Rochester\, NH\, 03867\, United States
CATEGORIES:Executive Committee
ATTACH;FMTTYPE=image/png:https://straffordrpcnh.gov/wp-content/uploads/2020/06/eventtile_ec.png
ORGANIZER;CN="Megan Taylor-Fetter":MAILTO:mtaylorfetter@straffordrpcnh.gov
END:VEVENT
BEGIN:VEVENT
DTSTART;TZID=America/New_York:20241115T090000
DTEND;TZID=America/New_York:20241115T103000
DTSTAMP:20260424T070425
CREATED:20241108T211233Z
LAST-MODIFIED:20241108T211234Z
UID:10000646-1731661200-1731666600@straffordrpcnh.gov
SUMMARY:MPO Policy/Commission Meeting
DESCRIPTION:This hybrid meeting requires a quorum at our Rochester office\, however you may still attend remotely. Join the meeting in Zoom: https://us02web.zoom.us/j/85802372877  \nThe following draft schedule for the next year is based upon reformatting what is currently the Policy Meeting\, to allow for quarterly meetings of the: \n\nEDD: Economic Development District Board of Directors (Commissioners)\nMPO: Metropolitan Planning Organization Policy Com. (Commissioners + Partners)\nRPC: Regional Planning Commission (Commissioners)\n\nFrom time to time\, we will need to conduct joint meetings between the MPO\, EDD\, and RPC.  The tentative 3rd Friday of the month (9AM) schedule  is as follows for the next year: \n\nFri. Jul. 12\, 2024 9-10:30 AM Joint meeting MPO Policy/TAC\nFri. Aug. 16\, 2024 9-10:30 AM SRPC MPO\nFri. Sep. 20\, 2024 9-10:30 AM SRPC RPC\nFri. Oct. 18\, 2024 9-10:30 AM SRPC MPO\nFri\, Nov. 15\, 2024 9-10:30 AM SRPC EDD\nFri. Dec. 20\, 2024 9-10:30 AM SRPC RPC\nFri\, Jan. 17\, 2025 9-10:30 AM SRPC MPO\nFri. Feb. 21\, 2025 9-10:30 AM SRPC EDD\nFri. Mar. 21\, 2025 9-10:30 AM SRPC RPC\nFri. Apr. 18\, 2025 9-10:30 AM SRPC MPO\nFri. May 16\, 2025 9-10:30 AM SRPC EDD\nFri. Jun. 20\, 2025 9-10:30 AM SRPC RPC
URL:https://straffordrpcnh.gov/event/commissioner-meeting-11-4/
LOCATION:Hybrid (In-Person and Online)\, 150 Wakefield Street\, Suite 12\, Rochester\, NH\, 03867\, United States
CATEGORIES:Commission,EDD Committees,MPO Committees,Policy Committee,SRPC Committees
ATTACH;FMTTYPE=image/png:https://straffordrpcnh.gov/wp-content/uploads/2021/09/eventtile_commmissioners.png
ORGANIZER;CN="Megan Taylor-Fetter":MAILTO:mtaylorfetter@straffordrpcnh.gov
END:VEVENT
BEGIN:VEVENT
DTSTART;VALUE=DATE:20241128
DTEND;VALUE=DATE:20241130
DTSTAMP:20260424T070425
CREATED:20241125T151427Z
LAST-MODIFIED:20241125T151427Z
UID:10000723-1732752000-1732924799@straffordrpcnh.gov
SUMMARY:The SRPC office is closed for the Thanksgiving Holiday
DESCRIPTION:
URL:https://straffordrpcnh.gov/event/the-srpc-office-is-closed-for-the-thanksgiving-holiday/
LOCATION:NH
END:VEVENT
END:VCALENDAR