BEGIN:VCALENDAR
VERSION:2.0
PRODID:-//Strafford Regional Planning Commission - ECPv6.15.20//NONSGML v1.0//EN
CALSCALE:GREGORIAN
METHOD:PUBLISH
X-WR-CALNAME:Strafford Regional Planning Commission
X-ORIGINAL-URL:https://straffordrpcnh.gov
X-WR-CALDESC:Events for Strafford Regional Planning Commission
REFRESH-INTERVAL;VALUE=DURATION:PT1H
X-Robots-Tag:noindex
X-PUBLISHED-TTL:PT1H
BEGIN:VTIMEZONE
TZID:America/New_York
BEGIN:DAYLIGHT
TZOFFSETFROM:-0500
TZOFFSETTO:-0400
TZNAME:EDT
DTSTART:20230312T070000
END:DAYLIGHT
BEGIN:STANDARD
TZOFFSETFROM:-0400
TZOFFSETTO:-0500
TZNAME:EST
DTSTART:20231105T060000
END:STANDARD
BEGIN:DAYLIGHT
TZOFFSETFROM:-0500
TZOFFSETTO:-0400
TZNAME:EDT
DTSTART:20240310T070000
END:DAYLIGHT
BEGIN:STANDARD
TZOFFSETFROM:-0400
TZOFFSETTO:-0500
TZNAME:EST
DTSTART:20241103T060000
END:STANDARD
BEGIN:DAYLIGHT
TZOFFSETFROM:-0500
TZOFFSETTO:-0400
TZNAME:EDT
DTSTART:20250309T070000
END:DAYLIGHT
BEGIN:STANDARD
TZOFFSETFROM:-0400
TZOFFSETTO:-0500
TZNAME:EST
DTSTART:20251102T060000
END:STANDARD
END:VTIMEZONE
BEGIN:VEVENT
DTSTART;TZID=America/New_York:20240607T090000
DTEND;TZID=America/New_York:20240607T103000
DTSTAMP:20260424T131340
CREATED:20240529T145032Z
LAST-MODIFIED:20240531T190732Z
UID:10000486-1717750800-1717756200@straffordrpcnh.gov
SUMMARY:Technical Advisory Committee
DESCRIPTION:The Technical Advisory Committee of the Strafford Metropolitan Planning Commission occurs on the first Friday of each month from 9:00 – 10:30 a.m. In accordance with RSA 91:A\, the Commission requires a minimum of an in-person quorum. To organize this\, the Commission staff will confirm the necessary in-person attendance. It is the preference of the Commission that others participate via Zoom\, however\, guests may attend the meeting at the SRPC Office. All participants\, both in-person and virtual\, can communicate contemporaneously.
URL:https://straffordrpcnh.gov/event/technical-advisory-committee-3-5-3-7/
LOCATION:Hybrid (In-Person and Online)\, 150 Wakefield Street\, Suite 12\, Rochester\, NH\, 03867\, United States
CATEGORIES:MPO Committees,Technical Advisory Committee
ATTACH;FMTTYPE=image/png:https://straffordrpcnh.gov/wp-content/uploads/2021/10/eventtile_tac.png
ORGANIZER;CN="Colin Lentz":MAILTO:clentz@straffordrpcnh.gov
END:VEVENT
BEGIN:VEVENT
DTSTART;VALUE=DATE:20240619
DTEND;VALUE=DATE:20240620
DTSTAMP:20260424T131340
CREATED:20240612T202553Z
LAST-MODIFIED:20240612T202639Z
UID:10000554-1718755200-1718841599@straffordrpcnh.gov
SUMMARY:The SRPC Office is Closed for Juneteenth
DESCRIPTION:
URL:https://straffordrpcnh.gov/event/the-srpc-office-is-closed-for-juneteenth/
LOCATION:NH
END:VEVENT
BEGIN:VEVENT
DTSTART;TZID=America/New_York:20240621T080000
DTEND;TZID=America/New_York:20240621T080000
DTSTAMP:20260424T131340
CREATED:20240614T202858Z
LAST-MODIFIED:20240614T202858Z
UID:10000199-1718956800-1718956800@straffordrpcnh.gov
SUMMARY:Executive Committee
DESCRIPTION:
URL:https://straffordrpcnh.gov/event/executive-committee-7-2-17/
LOCATION:Hybrid (In-Person and Online)\, 150 Wakefield Street\, Suite 12\, Rochester\, NH\, 03867\, United States
CATEGORIES:Executive Committee
ATTACH;FMTTYPE=image/png:https://straffordrpcnh.gov/wp-content/uploads/2020/06/eventtile_ec.png
ORGANIZER;CN="Megan Taylor-Fetter":MAILTO:mtaylorfetter@straffordrpcnh.gov
END:VEVENT
BEGIN:VEVENT
DTSTART;TZID=America/New_York:20240621T090000
DTEND;TZID=America/New_York:20240621T103000
DTSTAMP:20260424T131340
CREATED:20240614T205223Z
LAST-MODIFIED:20240614T205223Z
UID:10000464-1718960400-1718965800@straffordrpcnh.gov
SUMMARY:Commissioner Meeting
DESCRIPTION:This hybrid meeting requires a quorum at our Rochester office\, however you may still attend remotely. Join the meeting in Zoom: https://us02web.zoom.us/j/85802372877  \nThe following draft schedule for the next year is based upon reformatting what is currently the Policy Meeting\, to allow for quarterly meetings of the: \n\nEDD: Economic Development District Board of Directors (Commissioners)\nMPO: Metropolitan Planning Organization Policy Com. (Commissioners + Partners)\nRPC: Regional Planning Commission (Commissioners)\n\nFrom time to time\, we will need to conduct joint meetings between the MPO\, EDD\, and RPC.  The tentative 3rd Friday of the month (9AM) schedule is as follows for the next year: \n\nOct. 20\, 2023: EDD\nNov. 17\, 2023: MPO\nDec. 15\, 2023: RPC (MPO)\nJan. 19\, 2024: EDD (MPO)\nFeb. 16\, 2024: MPO\nMar. 15\, 2024: RPC\nApr. 19\, 2024: EDD\nMay. 17\, 2024: MPO\nJun. 21\, 2024: RPC (EDD)
URL:https://straffordrpcnh.gov/event/commissioner-meeting-10/
LOCATION:Hybrid (In-Person and Online)\, 150 Wakefield Street\, Suite 12\, Rochester\, NH\, 03867\, United States
CATEGORIES:Commission,EDD Committees,MPO Committees,Policy Committee,SRPC Committees
ATTACH;FMTTYPE=image/png:https://straffordrpcnh.gov/wp-content/uploads/2021/09/eventtile_commmissioners.png
ORGANIZER;CN="Megan Taylor-Fetter":MAILTO:mtaylorfetter@straffordrpcnh.gov
END:VEVENT
BEGIN:VEVENT
DTSTART;TZID=America/New_York:20240625T090000
DTEND;TZID=America/New_York:20240625T100000
DTSTAMP:20260424T131340
CREATED:20231107T212254Z
LAST-MODIFIED:20231222T171130Z
UID:10000476-1719306000-1719309600@straffordrpcnh.gov
SUMMARY:Seacoast Economic Development Stakeholders
DESCRIPTION:The Seacoast Economic Development Stakeholders (SEDS) is a collective entity of economic development stakeholders from Strafford and Rockingham Counties who meet regularly to collaborate\, share information and resources\, and work collaboratively to promote the economic vitality of our communities and region. To join this call\, please email your name and affiliation to: acleveland@strafford.org. \nLearn more about this collaboration here. \nView past meetings via SRPC’s YouTube playlist.
URL:https://straffordrpcnh.gov/event/seacoast-economic-development-stakeholders/2024-06-25/
LOCATION:NH
CATEGORIES:EDD Committees,EDD Strategy Committee
END:VEVENT
BEGIN:VEVENT
DTSTART;VALUE=DATE:20240627
DTEND;VALUE=DATE:20240628
DTSTAMP:20260424T131340
CREATED:20240625T191830Z
LAST-MODIFIED:20240625T191943Z
UID:10000556-1719446400-1719532799@straffordrpcnh.gov
SUMMARY:The SRPC Office will be closed on June 27 for our Annual Meeting
DESCRIPTION:
URL:https://straffordrpcnh.gov/event/the-srpc-office-will-be-closed-on-june-27-for-our-annual-meeting/
LOCATION:NH
END:VEVENT
BEGIN:VEVENT
DTSTART;TZID=America/New_York:20240627T110000
DTEND;TZID=America/New_York:20240627T140000
DTSTAMP:20260424T131340
CREATED:20230630T151731Z
LAST-MODIFIED:20240621T160218Z
UID:10000549-1719486000-1719496800@straffordrpcnh.gov
SUMMARY:Commissioner Annual Luncheon
DESCRIPTION:Join the Strafford Regional Planning Commission for our 2024 Annual Commissioner Luncheon and Presentation \nLocal Solutions: A Ten-Year Retrospective \nSRPC adopted its comprehensive plan\, Local Solutions\, nearly ten years ago and is about to commence an update. Come hear how we’ve grown\, changed\, and implemented the plan over the last decade. \nOur panel of guest speakers will provide their perspectives on how our regional goals have helped them achieve local success in housing\, environmental protection\, and transportation. Below is a sneak peek of our panelists: \n\nJohn Mullen\, SRPC Commissioner\, Middleton\nMichelle Mears\, Director of Planning and Community Development\, Somersworth\nRyan Pope\, Housing Navigator\, City of Dover\n\nThis Event is Open to the Public\, All are Welcome to Attend \nWhen: Thursday\, June 27\, 2024 from 11:00 AM – 2:00 PM \nWhere: Three Chimney’s Inn\, 17 Newmarket Road\, Durham\, NH 03824 \nFee: $40.00 \nREGISTER HERE \nRegistration closes June 17\, 2024 at 2:00 PM \nContact: Megan Taylor-Fetter\, 603-994-3500 x115\, mtaylorfetter@strafford.org
URL:https://straffordrpcnh.gov/event/commission-meeting-3/
LOCATION:SRPC Office\, 150 Wakefield Street\, Suite 12\, Rochester\, NH\, 03867\, United States
CATEGORIES:Commission
ATTACH;FMTTYPE=image/png:https://straffordrpcnh.gov/wp-content/uploads/2021/09/eventtile_commmissioners.png
ORGANIZER;CN="Megan Taylor-Fetter":MAILTO:mtaylorfetter@straffordrpcnh.gov
END:VEVENT
END:VCALENDAR