BEGIN:VCALENDAR
VERSION:2.0
PRODID:-//Strafford Regional Planning Commission - ECPv6.15.20//NONSGML v1.0//EN
CALSCALE:GREGORIAN
METHOD:PUBLISH
X-WR-CALNAME:Strafford Regional Planning Commission
X-ORIGINAL-URL:https://straffordrpcnh.gov
X-WR-CALDESC:Events for Strafford Regional Planning Commission
REFRESH-INTERVAL;VALUE=DURATION:PT1H
X-Robots-Tag:noindex
X-PUBLISHED-TTL:PT1H
BEGIN:VTIMEZONE
TZID:America/New_York
BEGIN:DAYLIGHT
TZOFFSETFROM:-0500
TZOFFSETTO:-0400
TZNAME:EDT
DTSTART:20230312T070000
END:DAYLIGHT
BEGIN:STANDARD
TZOFFSETFROM:-0400
TZOFFSETTO:-0500
TZNAME:EST
DTSTART:20231105T060000
END:STANDARD
BEGIN:DAYLIGHT
TZOFFSETFROM:-0500
TZOFFSETTO:-0400
TZNAME:EDT
DTSTART:20240310T070000
END:DAYLIGHT
BEGIN:STANDARD
TZOFFSETFROM:-0400
TZOFFSETTO:-0500
TZNAME:EST
DTSTART:20241103T060000
END:STANDARD
BEGIN:DAYLIGHT
TZOFFSETFROM:-0500
TZOFFSETTO:-0400
TZNAME:EDT
DTSTART:20250309T070000
END:DAYLIGHT
BEGIN:STANDARD
TZOFFSETFROM:-0400
TZOFFSETTO:-0500
TZNAME:EST
DTSTART:20251102T060000
END:STANDARD
END:VTIMEZONE
BEGIN:VEVENT
DTSTART;TZID=America/New_York:20240202T090000
DTEND;TZID=America/New_York:20240202T103000
DTSTAMP:20260424T175956
CREATED:20240129T170256Z
LAST-MODIFIED:20240129T170256Z
UID:10000482-1706864400-1706869800@straffordrpcnh.gov
SUMMARY:Technical Advisory Committee
DESCRIPTION:The Technical Advisory Committee of the Strafford Metropolitan Planning Commission occurs on the first Friday of each month from 9:00 – 10:30 a.m. In accordance with RSA 91:A\, the Commission requires a minimum of an in-person quorum. To organize this\, the Commission staff will confirm the necessary in-person attendance. It is the preference of the Commission that others participate via Zoom\, however\, guests may attend the meeting at the SRPC Office. All participants\, both in-person and virtual\, can communicate contemporaneously.
URL:https://straffordrpcnh.gov/event/technical-advisory-committee-3-5-3-3/
LOCATION:Hybrid (In-Person and Online)\, 150 Wakefield Street\, Suite 12\, Rochester\, NH\, 03867\, United States
CATEGORIES:MPO Committees,Technical Advisory Committee
ATTACH;FMTTYPE=image/png:https://straffordrpcnh.gov/wp-content/uploads/2021/10/eventtile_tac.png
ORGANIZER;CN="Colin Lentz":MAILTO:clentz@straffordrpcnh.gov
END:VEVENT
BEGIN:VEVENT
DTSTART;TZID=America/New_York:20240208T150000
DTEND;TZID=America/New_York:20240208T160000
DTSTAMP:20260424T175956
CREATED:20240202T155240Z
LAST-MODIFIED:20240206T181101Z
UID:10000543-1707404400-1707408000@straffordrpcnh.gov
SUMMARY:Regional Impact Committee
DESCRIPTION:The Regional Impact Committee has scheduled a meeting to review two new cases. In January\, the Town of Nottingham declared a development of regional impact due to potential traffic impacts for a propsoed 17-home subsivision with frontage on Route 156. Also in January\, the Town of Raymond declared a development of regional impact due to potential vehicle traffic impacts from a proposed development of over 100 units of multifamily housing. Regional Impact Committees are assembled to facilitate discussion about potential impacts from major developments on neighboring municipalities and act in an advisory role to the respective municipality’s land use boards.
URL:https://straffordrpcnh.gov/event/regional-impact-committee-2/
LOCATION:SRPC Office\, 150 Wakefield Street\, Suite 12\, Rochester\, NH\, 03867\, United States
CATEGORIES:Regional Impact Committee
END:VEVENT
BEGIN:VEVENT
DTSTART;TZID=America/New_York:20240216T080000
DTEND;TZID=America/New_York:20240216T080000
DTSTAMP:20260424T175956
CREATED:20240209T221055Z
LAST-MODIFIED:20240209T221128Z
UID:10000195-1708070400-1708070400@straffordrpcnh.gov
SUMMARY:Executive Committee
DESCRIPTION:
URL:https://straffordrpcnh.gov/event/executive-committee-7-2-13/
LOCATION:Hybrid (In-Person and Online)\, 150 Wakefield Street\, Suite 12\, Rochester\, NH\, 03867\, United States
CATEGORIES:Executive Committee
ATTACH;FMTTYPE=image/png:https://straffordrpcnh.gov/wp-content/uploads/2020/06/eventtile_ec.png
ORGANIZER;CN="Megan Taylor-Fetter":MAILTO:mtaylorfetter@straffordrpcnh.gov
END:VEVENT
BEGIN:VEVENT
DTSTART;TZID=America/New_York:20240216T090000
DTEND;TZID=America/New_York:20240216T103000
DTSTAMP:20260424T175956
CREATED:20240209T195741Z
LAST-MODIFIED:20240209T195741Z
UID:10000460-1708074000-1708079400@straffordrpcnh.gov
SUMMARY:Commissioner MPO Policy Committee Meeting
DESCRIPTION:This hybrid meeting requires a quorum at our Rochester office\, however you may still attend remotely. Join the meeting in Zoom: https://us02web.zoom.us/j/85802372877  \nThe following draft schedule for the next year is based upon reformatting what is currently the Policy Meeting\, to allow for quarterly meetings of the: \n\nEDD: Economic Development District Board of Directors (Commissioners)\nMPO: Metropolitan Planning Organization Policy Com. (Commissioners + Partners)\nRPC: Regional Planning Commission (Commissioners)\n\nFrom time to time\, we will need to conduct joint meetings between the MPO\, EDD\, and RPC.  The tentative 3rd Friday of the month (9AM) schedule is as follows for the next year: \n\nOct. 20\, 2023: EDD\nNov. 17\, 2023: MPO\nDec. 15\, 2023: RPC (MPO)\nJan. 19\, 2024: EDD (MPO)\nFeb. 16\, 2024: MPO\nMar. 15\, 2024: RPC\nApr. 19\, 2024: EDD\nMay. 17\, 2024: MPO\nJun. 21\, 2024: RPC (EDD)
URL:https://straffordrpcnh.gov/event/commissioner-meeting-6/
LOCATION:Hybrid (In-Person and Online)\, 150 Wakefield Street\, Suite 12\, Rochester\, NH\, 03867\, United States
CATEGORIES:Commission,EDD Committees,MPO Committees,Policy Committee,SRPC Committees
ATTACH;FMTTYPE=image/png:https://straffordrpcnh.gov/wp-content/uploads/2021/09/eventtile_commmissioners.png
ORGANIZER;CN="Megan Taylor-Fetter":MAILTO:mtaylorfetter@straffordrpcnh.gov
END:VEVENT
BEGIN:VEVENT
DTSTART;TZID=America/New_York:20240222T143000
DTEND;TZID=America/New_York:20240222T160000
DTSTAMP:20260424T175956
CREATED:20240214T214118Z
LAST-MODIFIED:20240216T205710Z
UID:10000323-1708612200-1708617600@straffordrpcnh.gov
SUMMARY:Commission Quarterly Meeting
DESCRIPTION:The Commission will meet at Flight Coffee in Dover\, NH.
URL:https://straffordrpcnh.gov/event/commission-meeting-3-4/
LOCATION:Flight Coffee
CATEGORIES:Commission
ATTACH;FMTTYPE=image/png:https://straffordrpcnh.gov/wp-content/uploads/2021/09/eventtile_commmissioners.png
ORGANIZER;CN="Megan Taylor-Fetter":MAILTO:mtaylorfetter@straffordrpcnh.gov
END:VEVENT
BEGIN:VEVENT
DTSTART;TZID=America/New_York:20240227T090000
DTEND;TZID=America/New_York:20240227T100000
DTSTAMP:20260424T175956
CREATED:20231107T212254Z
LAST-MODIFIED:20231222T171130Z
UID:10000472-1709024400-1709028000@straffordrpcnh.gov
SUMMARY:Seacoast Economic Development Stakeholders
DESCRIPTION:The Seacoast Economic Development Stakeholders (SEDS) is a collective entity of economic development stakeholders from Strafford and Rockingham Counties who meet regularly to collaborate\, share information and resources\, and work collaboratively to promote the economic vitality of our communities and region. To join this call\, please email your name and affiliation to: acleveland@strafford.org. \nLearn more about this collaboration here. \nView past meetings via SRPC’s YouTube playlist.
URL:https://straffordrpcnh.gov/event/seacoast-economic-development-stakeholders/2024-02-27/
LOCATION:NH
CATEGORIES:EDD Committees,EDD Strategy Committee
END:VEVENT
END:VCALENDAR