BEGIN:VCALENDAR
VERSION:2.0
PRODID:-//Strafford Regional Planning Commission - ECPv6.15.20//NONSGML v1.0//EN
CALSCALE:GREGORIAN
METHOD:PUBLISH
X-WR-CALNAME:Strafford Regional Planning Commission
X-ORIGINAL-URL:https://straffordrpcnh.gov
X-WR-CALDESC:Events for Strafford Regional Planning Commission
REFRESH-INTERVAL;VALUE=DURATION:PT1H
X-Robots-Tag:noindex
X-PUBLISHED-TTL:PT1H
BEGIN:VTIMEZONE
TZID:America/New_York
BEGIN:DAYLIGHT
TZOFFSETFROM:-0500
TZOFFSETTO:-0400
TZNAME:EDT
DTSTART:20220313T070000
END:DAYLIGHT
BEGIN:STANDARD
TZOFFSETFROM:-0400
TZOFFSETTO:-0500
TZNAME:EST
DTSTART:20221106T060000
END:STANDARD
BEGIN:DAYLIGHT
TZOFFSETFROM:-0500
TZOFFSETTO:-0400
TZNAME:EDT
DTSTART:20230312T070000
END:DAYLIGHT
BEGIN:STANDARD
TZOFFSETFROM:-0400
TZOFFSETTO:-0500
TZNAME:EST
DTSTART:20231105T060000
END:STANDARD
BEGIN:DAYLIGHT
TZOFFSETFROM:-0500
TZOFFSETTO:-0400
TZNAME:EDT
DTSTART:20240310T070000
END:DAYLIGHT
BEGIN:STANDARD
TZOFFSETFROM:-0400
TZOFFSETTO:-0500
TZNAME:EST
DTSTART:20241103T060000
END:STANDARD
END:VTIMEZONE
BEGIN:VEVENT
DTSTART;TZID=America/New_York:20230303T090000
DTEND;TZID=America/New_York:20230303T103000
DTSTAMP:20260425T094053
CREATED:20230227T172647Z
LAST-MODIFIED:20230227T172647Z
UID:10000180-1677834000-1677839400@straffordrpcnh.gov
SUMMARY:Technical Advisory Committee
DESCRIPTION:The Technical Advisory Committee of the Strafford Metropolitan Planning Commission occurs on the first Friday of each month from 9:00 – 10:30 a.m. In accordance with RSA 91:A\, the Commission requires a minimum of an in-person quorum. To organize this\, the Commission staff will confirm the necessary in-person attendance. It is the preference of the Commission that others participate via Zoom\, however\, guests may attend the meeting at the SRPC Office. All participants\, both in-person and virtual\, can communicate contemporaneously.
URL:https://straffordrpcnh.gov/event/technical-advisory-committee-2020-09-04-3-3/
LOCATION:Zoom
CATEGORIES:MPO Committees,Technical Advisory Committee
ATTACH;FMTTYPE=image/png:https://straffordrpcnh.gov/wp-content/uploads/2021/10/eventtile_tac.png
ORGANIZER;CN="Colin Lentz":MAILTO:clentz@straffordrpcnh.gov
END:VEVENT
BEGIN:VEVENT
DTSTART;TZID=America/New_York:20230307T090000
DTEND;TZID=America/New_York:20230307T100000
DTSTAMP:20260425T094053
CREATED:20221117T144631Z
LAST-MODIFIED:20230113T180113Z
UID:10000036-1678179600-1678183200@straffordrpcnh.gov
SUMMARY:Bi-Weekly Seacoast Economy Call
DESCRIPTION:The Seacoast Economic Development Stakeholders (SEDS) is a collective entity of economic development stakeholders from Strafford and Rockingham Counties who meet regularly to collaborate\, share information and resources\, and work collaboratively to promote the economic vitality of our communities and region. \nLearn more about this collaboration here. \nView past meetings via SRPC’s YouTube playlist.
URL:https://straffordrpcnh.gov/event/seacoast-economy-call-2/2023-03-07/
LOCATION:Zoom
CATEGORIES:EDD Committees
ATTACH;FMTTYPE=image/png:https://straffordrpcnh.gov/wp-content/uploads/2021/08/eventtile_seacoasteconomy.png
ORGANIZER;CN="James Burdin":MAILTO:jburdin@strafford.org
END:VEVENT
BEGIN:VEVENT
DTSTART;TZID=America/New_York:20230313T130000
DTEND;TZID=America/New_York:20230313T143000
DTSTAMP:20260425T094053
CREATED:20230313T161240Z
LAST-MODIFIED:20230313T161240Z
UID:10000208-1678712400-1678717800@straffordrpcnh.gov
SUMMARY:Resiliency Sub-Committee
DESCRIPTION:Meeting URL: https://us02web.zoom.us/j/87878136594\nMeeting ID: 878 7813 6594\nTelephone-only Access: +16469313860
URL:https://straffordrpcnh.gov/event/resiliency-sub-committee-10/
LOCATION:Zoom
CATEGORIES:Resiliency Subcommittee
END:VEVENT
BEGIN:VEVENT
DTSTART;TZID=America/New_York:20230317T080000
DTEND;TZID=America/New_York:20230317T090000
DTSTAMP:20260425T094053
CREATED:20230310T165618Z
LAST-MODIFIED:20230310T165845Z
UID:10000184-1679040000-1679043600@straffordrpcnh.gov
SUMMARY:Executive Committee
DESCRIPTION:
URL:https://straffordrpcnh.gov/event/executive-committee-7-2-3/
LOCATION:Hybrid (In-Person and Online)\, 150 Wakefield Street\, Suite 12\, Rochester\, NH\, 03867\, United States
CATEGORIES:Executive Committee
ATTACH;FMTTYPE=image/png:https://straffordrpcnh.gov/wp-content/uploads/2020/06/eventtile_ec.png
ORGANIZER;CN="Megan Taylor-Fetter":MAILTO:mtaylorfetter@straffordrpcnh.gov
END:VEVENT
BEGIN:VEVENT
DTSTART;TZID=America/New_York:20230317T090000
DTEND;TZID=America/New_York:20230317T110000
DTSTAMP:20260425T094053
CREATED:20230210T191257Z
LAST-MODIFIED:20230310T194356Z
UID:10000120-1679043600-1679050800@straffordrpcnh.gov
SUMMARY:Joint Meeting of the Policy Committee and SRPC Commission and Draft 2023 Public Hearing
DESCRIPTION:SRPC will hold its regularly scheduled March Policy meeting as a joint meeting of the Commission to hold a public hearing for the Draft 2023 RHNHA. \nThe Strafford Regional Planning Commission is holding a public comment period and public hearing on its Regional Housing Needs Assessment (RHNA) in accordance with RSA 36:47. The public hearing can be attended in person or via Zoom: \n\nSRPC’s Conference Room 1A\, 150 Wakefield Street\, Rochester\, NH or\n Online/Telephonically via Zoom:\n\nhttps://us02web.zoom.us/j/85802372877\nMeeting ID: 858 0237 2877\nTelephone-only Access: 1-646-558-8656\n\n\n\nIf anybody has a problem accessing the hearing or needs special arrangements\, please email srpc@strafford.org or call 603-994-3500 x115.
URL:https://straffordrpcnh.gov/event/policy-committee-2-6/
LOCATION:Hybrid (In-Person and Online)\, 150 Wakefield Street\, Suite 12\, Rochester\, NH\, 03867\, United States
CATEGORIES:MPO Committees,Policy Committee
ATTACH;FMTTYPE=image/png:https://straffordrpcnh.gov/wp-content/uploads/2021/08/eventtile_policy.png
ORGANIZER;CN="Colin Lentz":MAILTO:clentz@straffordrpcnh.gov
END:VEVENT
BEGIN:VEVENT
DTSTART;TZID=America/New_York:20230321T090000
DTEND;TZID=America/New_York:20230321T100000
DTSTAMP:20260425T094053
CREATED:20221117T144631Z
LAST-MODIFIED:20230113T180113Z
UID:10000037-1679389200-1679392800@straffordrpcnh.gov
SUMMARY:Bi-Weekly Seacoast Economy Call
DESCRIPTION:The Seacoast Economic Development Stakeholders (SEDS) is a collective entity of economic development stakeholders from Strafford and Rockingham Counties who meet regularly to collaborate\, share information and resources\, and work collaboratively to promote the economic vitality of our communities and region. \nLearn more about this collaboration here. \nView past meetings via SRPC’s YouTube playlist.
URL:https://straffordrpcnh.gov/event/seacoast-economy-call-2/2023-03-21/
LOCATION:Zoom
CATEGORIES:EDD Committees
ATTACH;FMTTYPE=image/png:https://straffordrpcnh.gov/wp-content/uploads/2021/08/eventtile_seacoasteconomy.png
ORGANIZER;CN="James Burdin":MAILTO:jburdin@strafford.org
END:VEVENT
END:VCALENDAR