BEGIN:VCALENDAR
VERSION:2.0
PRODID:-//Strafford Regional Planning Commission - ECPv6.15.20//NONSGML v1.0//EN
CALSCALE:GREGORIAN
METHOD:PUBLISH
X-WR-CALNAME:Strafford Regional Planning Commission
X-ORIGINAL-URL:https://straffordrpcnh.gov
X-WR-CALDESC:Events for Strafford Regional Planning Commission
REFRESH-INTERVAL;VALUE=DURATION:PT1H
X-Robots-Tag:noindex
X-PUBLISHED-TTL:PT1H
BEGIN:VTIMEZONE
TZID:America/New_York
BEGIN:DAYLIGHT
TZOFFSETFROM:-0500
TZOFFSETTO:-0400
TZNAME:EDT
DTSTART:20220313T070000
END:DAYLIGHT
BEGIN:STANDARD
TZOFFSETFROM:-0400
TZOFFSETTO:-0500
TZNAME:EST
DTSTART:20221106T060000
END:STANDARD
BEGIN:DAYLIGHT
TZOFFSETFROM:-0500
TZOFFSETTO:-0400
TZNAME:EDT
DTSTART:20230312T070000
END:DAYLIGHT
BEGIN:STANDARD
TZOFFSETFROM:-0400
TZOFFSETTO:-0500
TZNAME:EST
DTSTART:20231105T060000
END:STANDARD
BEGIN:DAYLIGHT
TZOFFSETFROM:-0500
TZOFFSETTO:-0400
TZNAME:EDT
DTSTART:20240310T070000
END:DAYLIGHT
BEGIN:STANDARD
TZOFFSETFROM:-0400
TZOFFSETTO:-0500
TZNAME:EST
DTSTART:20241103T060000
END:STANDARD
END:VTIMEZONE
BEGIN:VEVENT
DTSTART;TZID=America/New_York:20230203T090000
DTEND;TZID=America/New_York:20230203T110000
DTSTAMP:20260425T110353
CREATED:20230127T201151Z
LAST-MODIFIED:20230127T201356Z
UID:10000168-1675414800-1675422000@straffordrpcnh.gov
SUMMARY:Technical Advisory Committee
DESCRIPTION:The Technical Advisory Committee of the Strafford Metropolitan Planning Commission occurs on the first Friday of each month from 8:00 – 9:00 a.m. In accordance with RSA 91:A\, the Commission requires a minimum of an in-person quorum. To organize this\, the Commission staff will confirm the necessary in-person attendance. It is the preference of the Commission that others participate via Zoom\, however\, guests may attend the meeting at the SRPC Office. All participants\, both in-person and virtual\, can communicate contemporaneously.
URL:https://straffordrpcnh.gov/event/technical-advisory-committee-2/
LOCATION:Zoom
CATEGORIES:MPO Committees,Technical Advisory Committee
ATTACH;FMTTYPE=image/png:https://straffordrpcnh.gov/wp-content/uploads/2021/10/eventtile_tac.png
ORGANIZER;CN="Colin Lentz":MAILTO:clentz@straffordrpcnh.gov
END:VEVENT
BEGIN:VEVENT
DTSTART;TZID=America/New_York:20230206T130000
DTEND;TZID=America/New_York:20230206T143000
DTSTAMP:20260425T110353
CREATED:20230206T152059Z
LAST-MODIFIED:20230206T152059Z
UID:10000169-1675688400-1675693800@straffordrpcnh.gov
SUMMARY:Resiliency Sub-Committee
DESCRIPTION:Meeting URL: https://us02web.zoom.us/j/87878136594\nMeeting ID: 878 7813 6594\nTelephone-only Access: +16469313860
URL:https://straffordrpcnh.gov/event/resiliency-sub-committee-9/
LOCATION:Zoom
CATEGORIES:Resiliency Subcommittee
END:VEVENT
BEGIN:VEVENT
DTSTART;TZID=America/New_York:20230207T090000
DTEND;TZID=America/New_York:20230207T100000
DTSTAMP:20260425T110353
CREATED:20221117T144631Z
LAST-MODIFIED:20230113T180113Z
UID:10000034-1675760400-1675764000@straffordrpcnh.gov
SUMMARY:Bi-Weekly Seacoast Economy Call
DESCRIPTION:The Seacoast Economic Development Stakeholders (SEDS) is a collective entity of economic development stakeholders from Strafford and Rockingham Counties who meet regularly to collaborate\, share information and resources\, and work collaboratively to promote the economic vitality of our communities and region. \nLearn more about this collaboration here. \nView past meetings via SRPC’s YouTube playlist.
URL:https://straffordrpcnh.gov/event/seacoast-economy-call-2/2023-02-07/
LOCATION:Zoom
CATEGORIES:EDD Committees
ATTACH;FMTTYPE=image/png:https://straffordrpcnh.gov/wp-content/uploads/2021/08/eventtile_seacoasteconomy.png
ORGANIZER;CN="James Burdin":MAILTO:jburdin@strafford.org
END:VEVENT
BEGIN:VEVENT
DTSTART;TZID=America/New_York:20230217T080000
DTEND;TZID=America/New_York:20230217T080000
DTSTAMP:20260425T110353
CREATED:20230210T212506Z
LAST-MODIFIED:20230210T212803Z
UID:10000170-1676620800-1676620800@straffordrpcnh.gov
SUMMARY:Executive Committee
DESCRIPTION:
URL:https://straffordrpcnh.gov/event/executive-committee-7-2-2/
LOCATION:Hybrid (In-Person and Online)\, 150 Wakefield Street\, Suite 12\, Rochester\, NH\, 03867\, United States
CATEGORIES:Executive Committee
ATTACH;FMTTYPE=image/png:https://straffordrpcnh.gov/wp-content/uploads/2020/06/eventtile_ec.png
ORGANIZER;CN="Megan Taylor-Fetter":MAILTO:mtaylorfetter@straffordrpcnh.gov
END:VEVENT
BEGIN:VEVENT
DTSTART;TZID=America/New_York:20230217T090000
DTEND;TZID=America/New_York:20230217T110000
DTSTAMP:20260425T110353
CREATED:20230118T201256Z
LAST-MODIFIED:20230210T210038Z
UID:10000119-1676624400-1676631600@straffordrpcnh.gov
SUMMARY:Policy Committee and 2023-2026 TIP Public Hearing
DESCRIPTION:A thirty-day public comment period for the draft 2023-2026 Transportation Improvement Program (TIP) and concurrent draft updates to the 2021 – 2045 Metropolitan Transportation Plan runs through Thursday\, February 16\, ending with a public hearing on Friday\, February 17 at 9 AM at a meeting of the Strafford MPO Policy Committee. This meeting is being held in accordance with the Strafford MPO Public Participation Plan and state requirements. Interested parties can participate and submit comments at the hearing. \nInterested parties can participate and submit comments at the hearing as follows: \nIn Person at the SRPC office (address below) or\nOnline/Telephonically via Zoom:\nhttps://us02web.zoom.us/j/85802372877\nMeeting ID: 858 0237 2877\nTelephone-only Access: 1-646-558-8656
URL:https://straffordrpcnh.gov/event/policy-committee-2-5/
LOCATION:Hybrid (In-Person and Online)\, 150 Wakefield Street\, Suite 12\, Rochester\, NH\, 03867\, United States
CATEGORIES:MPO Committees,Policy Committee
ATTACH;FMTTYPE=image/png:https://straffordrpcnh.gov/wp-content/uploads/2021/08/eventtile_policy.png
ORGANIZER;CN="Colin Lentz":MAILTO:clentz@straffordrpcnh.gov
END:VEVENT
BEGIN:VEVENT
DTSTART;TZID=America/New_York:20230221T090000
DTEND;TZID=America/New_York:20230221T100000
DTSTAMP:20260425T110354
CREATED:20221117T144631Z
LAST-MODIFIED:20230113T180113Z
UID:10000035-1676970000-1676973600@straffordrpcnh.gov
SUMMARY:Bi-Weekly Seacoast Economy Call
DESCRIPTION:The Seacoast Economic Development Stakeholders (SEDS) is a collective entity of economic development stakeholders from Strafford and Rockingham Counties who meet regularly to collaborate\, share information and resources\, and work collaboratively to promote the economic vitality of our communities and region. \nLearn more about this collaboration here. \nView past meetings via SRPC’s YouTube playlist.
URL:https://straffordrpcnh.gov/event/seacoast-economy-call-2/2023-02-21/
LOCATION:Zoom
CATEGORIES:EDD Committees
ATTACH;FMTTYPE=image/png:https://straffordrpcnh.gov/wp-content/uploads/2021/08/eventtile_seacoasteconomy.png
ORGANIZER;CN="James Burdin":MAILTO:jburdin@strafford.org
END:VEVENT
BEGIN:VEVENT
DTSTART;TZID=America/New_York:20230223T154500
DTEND;TZID=America/New_York:20230223T173000
DTSTAMP:20260425T110354
CREATED:20220822T173234Z
LAST-MODIFIED:20230222T175620Z
UID:10000144-1677167100-1677173400@straffordrpcnh.gov
SUMMARY:Commission Meeting
DESCRIPTION:2/22/2023 UPDATE: This meeting will now be held online only due to impending winter weather.
URL:https://straffordrpcnh.gov/event/commission-meeting-4/
LOCATION:Zoom
CATEGORIES:Commission
ATTACH;FMTTYPE=image/png:https://straffordrpcnh.gov/wp-content/uploads/2021/09/eventtile_commmissioners.png
ORGANIZER;CN="Megan Taylor-Fetter":MAILTO:mtaylorfetter@straffordrpcnh.gov
END:VEVENT
END:VCALENDAR