BEGIN:VCALENDAR
VERSION:2.0
PRODID:-//Strafford Regional Planning Commission - ECPv6.15.20//NONSGML v1.0//EN
CALSCALE:GREGORIAN
METHOD:PUBLISH
X-ORIGINAL-URL:https://straffordrpcnh.gov
X-WR-CALDESC:Events for Strafford Regional Planning Commission
REFRESH-INTERVAL;VALUE=DURATION:PT1H
X-Robots-Tag:noindex
X-PUBLISHED-TTL:PT1H
BEGIN:VTIMEZONE
TZID:America/New_York
BEGIN:DAYLIGHT
TZOFFSETFROM:-0500
TZOFFSETTO:-0400
TZNAME:EDT
DTSTART:20210314T070000
END:DAYLIGHT
BEGIN:STANDARD
TZOFFSETFROM:-0400
TZOFFSETTO:-0500
TZNAME:EST
DTSTART:20211107T060000
END:STANDARD
BEGIN:DAYLIGHT
TZOFFSETFROM:-0500
TZOFFSETTO:-0400
TZNAME:EDT
DTSTART:20220313T070000
END:DAYLIGHT
BEGIN:STANDARD
TZOFFSETFROM:-0400
TZOFFSETTO:-0500
TZNAME:EST
DTSTART:20221106T060000
END:STANDARD
BEGIN:DAYLIGHT
TZOFFSETFROM:-0500
TZOFFSETTO:-0400
TZNAME:EDT
DTSTART:20230312T070000
END:DAYLIGHT
BEGIN:STANDARD
TZOFFSETFROM:-0400
TZOFFSETTO:-0500
TZNAME:EST
DTSTART:20231105T060000
END:STANDARD
END:VTIMEZONE
BEGIN:VEVENT
DTSTART;TZID=America/New_York:20220804T100000
DTEND;TZID=America/New_York:20220804T113000
DTSTAMP:20260425T185848
CREATED:20220802T203249Z
LAST-MODIFIED:20220802T203249Z
UID:10000113-1659607200-1659612600@straffordrpcnh.gov
SUMMARY:Resiliency Sub-Committee
DESCRIPTION:Meeting URL: https://us02web.zoom.us/j/87878136594\nMeeting ID: 878 7813 6594\nTelephone-only Access: +16469313860
URL:https://straffordrpcnh.gov/event/resiliency-sub-committee-6/
LOCATION:Zoom
CATEGORIES:Resiliency Subcommittee
END:VEVENT
BEGIN:VEVENT
DTSTART;TZID=America/New_York:20220805T080000
DTEND;TZID=America/New_York:20220805T100000
DTSTAMP:20260425T185848
CREATED:20200603T213410Z
LAST-MODIFIED:20220729T174152Z
UID:10000066-1659686400-1659693600@straffordrpcnh.gov
SUMMARY:Technical Advisory Committee
DESCRIPTION:The Technical Advisory Committee of the Strafford Metropolitan Planning Commission occurs on the first Friday of each month from 8:00 – 9:00 a.m.
URL:https://straffordrpcnh.gov/event/technical-advisory-committee-2020-09-04-2022-08-05/
LOCATION:Zoom
CATEGORIES:MPO Committees,Technical Advisory Committee
ATTACH;FMTTYPE=image/png:https://straffordrpcnh.gov/wp-content/uploads/2021/10/eventtile_tac.png
ORGANIZER;CN="Colin Lentz":MAILTO:clentz@straffordrpcnh.gov
END:VEVENT
BEGIN:VEVENT
DTSTART;TZID=America/New_York:20220809T090000
DTEND;TZID=America/New_York:20220809T100000
DTSTAMP:20260425T185848
CREATED:20210812T193830Z
LAST-MODIFIED:20220524T131112Z
UID:10000021-1660035600-1660039200@straffordrpcnh.gov
SUMMARY:Bi-Weekly Seacoast Economy Call
DESCRIPTION:
URL:https://straffordrpcnh.gov/event/seacoast-economy-call/2022-08-09/
LOCATION:Zoom
CATEGORIES:EDD Committees
ATTACH;FMTTYPE=image/png:https://straffordrpcnh.gov/wp-content/uploads/2021/08/eventtile_seacoasteconomy.png
ORGANIZER;CN="James Burdin":MAILTO:jburdin@strafford.org
END:VEVENT
BEGIN:VEVENT
DTSTART;TZID=America/New_York:20220816T090000
DTEND;TZID=America/New_York:20220816T110000
DTSTAMP:20260425T185848
CREATED:20220801T182713Z
LAST-MODIFIED:20220801T182713Z
UID:10000111-1660640400-1660647600@straffordrpcnh.gov
SUMMARY:Regional Housing Needs Assessment Workshop Session #1
DESCRIPTION:SRPC is holding a two-session housing workshop with municipal staff\, planners\, and board representatives and volunteers on Tuesday\, Aug. 16. This event is intended to inform SRPC’s update to its regional housing needs assessment. \nThe morning session\, held from 9-11 a.m.\, will be geared towards the smaller communities in the region (Brookfield\, Lee\, Madbury\, Middleton\, Milton\, New Durham\, Nottingham\, Northwood\, Rollinsford\, and Strafford) and the afternoon session\, held from 1-3 p.m.\, will be geared towards the larger communities in the region (Barrington\, Dover\, Durham\, Farmington\, Newmarket\, Rochester\, Somersworth\, and Wakefield). \nTargeted invites were sent out the week on 7/18. If you did not receive one\, and believe you should have please contact ssylvia@strafford.org. \nA complementary workshop for members of the public and other stakeholders is being scheduled for late summer\, date TBD.
URL:https://straffordrpcnh.gov/event/regional-housing-needs-assessment-workshop-session-1/
LOCATION:SRPC Office\, 150 Wakefield Street\, Suite 12\, Rochester\, NH\, 03867\, United States
ORGANIZER;CN="Shayna Sylvia":MAILTO:ssylvia@strafford.org
END:VEVENT
BEGIN:VEVENT
DTSTART;TZID=America/New_York:20220816T130000
DTEND;TZID=America/New_York:20220816T150000
DTSTAMP:20260425T185848
CREATED:20220801T182736Z
LAST-MODIFIED:20220801T182837Z
UID:10000112-1660654800-1660662000@straffordrpcnh.gov
SUMMARY:Regional Housing Needs Assessment Workshop Session #2
DESCRIPTION:SRPC is holding a two-session housing workshop with municipal staff\, planners\, and board representatives and volunteers on Tuesday\, Aug. 16. This event is intended to inform SRPC’s update to its regional housing needs assessment. \nThe morning session\, held from 9-11 a.m.\, will be geared towards the smaller communities in the region (Brookfield\, Lee\, Madbury\, Middleton\, Milton\, New Durham\, Nottingham\, Northwood\, Rollinsford\, and Strafford) and the afternoon session\, held from 1-3 p.m.\, will be geared towards the larger communities in the region (Barrington\, Dover\, Durham\, Farmington\, Newmarket\, Rochester\, Somersworth\, and Wakefield). \nTargeted invites were sent out the week on 7/18. If you did not receive one\, and believe you should have please contact ssylvia@strafford.org. \nA complementary workshop for members of the public and other stakeholders is being scheduled for late summer\, date TBD.
URL:https://straffordrpcnh.gov/event/regional-housing-needs-assessment-workshop-session-2/
LOCATION:SRPC Office\, 150 Wakefield Street\, Suite 12\, Rochester\, NH\, 03867\, United States
ORGANIZER;CN="Shayna Sylvia":MAILTO:ssylvia@strafford.org
END:VEVENT
BEGIN:VEVENT
DTSTART;TZID=America/New_York:20220819T080000
DTEND;TZID=America/New_York:20220819T090000
DTSTAMP:20260425T185848
CREATED:20210812T193637Z
LAST-MODIFIED:20220811T213501Z
UID:10000043-1660896000-1660899600@straffordrpcnh.gov
SUMMARY:Executive Committee
DESCRIPTION:
URL:https://straffordrpcnh.gov/event/executive-committee-2022-08-19/
LOCATION:Hybrid (In-Person and Online)\, 150 Wakefield Street\, Suite 12\, Rochester\, NH\, 03867\, United States
CATEGORIES:Executive Committee
ATTACH;FMTTYPE=image/png:https://straffordrpcnh.gov/wp-content/uploads/2020/06/eventtile_ec.png
ORGANIZER;CN="Megan Taylor-Fetter":MAILTO:mtaylorfetter@straffordrpcnh.gov
END:VEVENT
BEGIN:VEVENT
DTSTART;TZID=America/New_York:20220819T090000
DTEND;TZID=America/New_York:20220819T110000
DTSTAMP:20260425T185848
CREATED:20210812T191847Z
LAST-MODIFIED:20220811T212450Z
UID:10000053-1660899600-1660906800@straffordrpcnh.gov
SUMMARY:Policy Committee
DESCRIPTION:
URL:https://straffordrpcnh.gov/event/policy-committee-2021-09-17-2022-08-19/
LOCATION:Hybrid (In-Person and Online)\, 150 Wakefield Street\, Suite 12\, Rochester\, NH\, 03867\, United States
CATEGORIES:MPO Committees,Policy Committee
ATTACH;FMTTYPE=image/png:https://straffordrpcnh.gov/wp-content/uploads/2021/08/eventtile_policy.png
ORGANIZER;CN="Colin Lentz":MAILTO:clentz@straffordrpcnh.gov
END:VEVENT
BEGIN:VEVENT
DTSTART;TZID=America/New_York:20220823T090000
DTEND;TZID=America/New_York:20220823T100000
DTSTAMP:20260425T185848
CREATED:20210812T193830Z
LAST-MODIFIED:20220524T131112Z
UID:10000022-1661245200-1661248800@straffordrpcnh.gov
SUMMARY:Bi-Weekly Seacoast Economy Call
DESCRIPTION:
URL:https://straffordrpcnh.gov/event/seacoast-economy-call/2022-08-23/
LOCATION:Zoom
CATEGORIES:EDD Committees
ATTACH;FMTTYPE=image/png:https://straffordrpcnh.gov/wp-content/uploads/2021/08/eventtile_seacoasteconomy.png
ORGANIZER;CN="James Burdin":MAILTO:jburdin@strafford.org
END:VEVENT
END:VCALENDAR