BEGIN:VCALENDAR
VERSION:2.0
PRODID:-//Strafford Regional Planning Commission - ECPv6.15.20//NONSGML v1.0//EN
CALSCALE:GREGORIAN
METHOD:PUBLISH
X-ORIGINAL-URL:https://straffordrpcnh.gov
X-WR-CALDESC:Events for Strafford Regional Planning Commission
REFRESH-INTERVAL;VALUE=DURATION:PT1H
X-Robots-Tag:noindex
X-PUBLISHED-TTL:PT1H
BEGIN:VTIMEZONE
TZID:America/New_York
BEGIN:DAYLIGHT
TZOFFSETFROM:-0500
TZOFFSETTO:-0400
TZNAME:EDT
DTSTART:20210314T070000
END:DAYLIGHT
BEGIN:STANDARD
TZOFFSETFROM:-0400
TZOFFSETTO:-0500
TZNAME:EST
DTSTART:20211107T060000
END:STANDARD
BEGIN:DAYLIGHT
TZOFFSETFROM:-0500
TZOFFSETTO:-0400
TZNAME:EDT
DTSTART:20220313T070000
END:DAYLIGHT
BEGIN:STANDARD
TZOFFSETFROM:-0400
TZOFFSETTO:-0500
TZNAME:EST
DTSTART:20221106T060000
END:STANDARD
BEGIN:DAYLIGHT
TZOFFSETFROM:-0500
TZOFFSETTO:-0400
TZNAME:EDT
DTSTART:20230312T070000
END:DAYLIGHT
BEGIN:STANDARD
TZOFFSETFROM:-0400
TZOFFSETTO:-0500
TZNAME:EST
DTSTART:20231105T060000
END:STANDARD
END:VTIMEZONE
BEGIN:VEVENT
DTSTART;TZID=America/New_York:20220603T080000
DTEND;TZID=America/New_York:20220603T100000
DTSTAMP:20260425T222503
CREATED:20200603T213410Z
LAST-MODIFIED:20220526T204711Z
UID:10000101-1654243200-1654250400@straffordrpcnh.gov
SUMMARY:Panel Discussion on Electric Vehicle Charging [Technical Advisory Committee]
DESCRIPTION:The Technical Advisory Committee of the Strafford Metropolitan Planning Commission occurs on the first Friday of each month from 8:00 – 9:00 a.m. These meetings are usually in-person but are currently taking place via Zoom due to the COVID-19 pandemic.
URL:https://straffordrpcnh.gov/event/technical-advisory-committee-2020-09-04-2022-06-03/
LOCATION:Zoom
CATEGORIES:MPO Committees,Technical Advisory Committee
ATTACH;FMTTYPE=image/png:https://straffordrpcnh.gov/wp-content/uploads/2021/10/eventtile_tac.png
ORGANIZER;CN="Colin Lentz":MAILTO:clentz@straffordrpcnh.gov
END:VEVENT
BEGIN:VEVENT
DTSTART;TZID=America/New_York:20220614T090000
DTEND;TZID=America/New_York:20220614T100000
DTSTAMP:20260425T222503
CREATED:20210812T193830Z
LAST-MODIFIED:20220524T131112Z
UID:10000017-1655197200-1655200800@straffordrpcnh.gov
SUMMARY:Bi-Weekly Seacoast Economy Call
DESCRIPTION:
URL:https://straffordrpcnh.gov/event/seacoast-economy-call/2022-06-14/
LOCATION:Zoom
CATEGORIES:EDD Committees
ATTACH;FMTTYPE=image/png:https://straffordrpcnh.gov/wp-content/uploads/2021/08/eventtile_seacoasteconomy.png
ORGANIZER;CN="James Burdin":MAILTO:jburdin@strafford.org
END:VEVENT
BEGIN:VEVENT
DTSTART;TZID=America/New_York:20220617T080000
DTEND;TZID=America/New_York:20220617T090000
DTSTAMP:20260425T222503
CREATED:20210812T193637Z
LAST-MODIFIED:20220610T210621Z
UID:10000065-1655452800-1655456400@straffordrpcnh.gov
SUMMARY:Executive Committee
DESCRIPTION:
URL:https://straffordrpcnh.gov/event/executive-committee-2022-06-17/
LOCATION:Hybrid (In-Person and Online)\, 150 Wakefield Street\, Suite 12\, Rochester\, NH\, 03867\, United States
CATEGORIES:Executive Committee
ATTACH;FMTTYPE=image/png:https://straffordrpcnh.gov/wp-content/uploads/2020/06/eventtile_ec.png
ORGANIZER;CN="Megan Taylor-Fetter":MAILTO:mtaylorfetter@straffordrpcnh.gov
END:VEVENT
BEGIN:VEVENT
DTSTART;TZID=America/New_York:20220617T090000
DTEND;TZID=America/New_York:20220617T110000
DTSTAMP:20260425T222503
CREATED:20210812T191847Z
LAST-MODIFIED:20220610T205028Z
UID:10000058-1655456400-1655463600@straffordrpcnh.gov
SUMMARY:Combined meeting of the Strafford EDD & Strafford MPO
DESCRIPTION:
URL:https://straffordrpcnh.gov/event/policy-committee-2021-09-17-2022-06-17/
LOCATION:Hybrid (In-Person and Online)\, 150 Wakefield Street\, Suite 12\, Rochester\, NH\, 03867\, United States
CATEGORIES:MPO Committees,Policy Committee
ATTACH;FMTTYPE=image/png:https://straffordrpcnh.gov/wp-content/uploads/2021/08/eventtile_policy.png
ORGANIZER;CN="Colin Lentz":MAILTO:clentz@straffordrpcnh.gov
END:VEVENT
BEGIN:VEVENT
DTSTART;TZID=America/New_York:20220620T090000
DTEND;TZID=America/New_York:20220620T103000
DTSTAMP:20260425T222503
CREATED:20220603T164958Z
LAST-MODIFIED:20220610T151109Z
UID:10000109-1655715600-1655721000@straffordrpcnh.gov
SUMMARY:Resiliency Roundtable
DESCRIPTION:SRPC’s Resiliency Roundtable\, originally planned for May 19\, has now been rescheduled for Jun. 20\, from 9:00 -10:30 a.m. \nJoin our panelists Jeremy Lougee (SELT) and Allison Leach (UNH Sustainability Institute)\, as they discuss: \n\nthe ways agriculture can impact the environment\nsolutions for a more resilient food system\,\nthe region’s agricultural landscape and related assets and challenges.\n\nSRPC has also invited Erin Hale\, a Research and Planning Associate with Food Solutions New England to discuss some of the work being done by New England Feeding New England and any engagement opportunities they may have. \nThis resiliency roundtable topic will be carried out over two different roundtables\, the second being planned for later this summer. Part II will include a “boots on the ground” panel of farmers and other related panelists. \nRegister for the virtual meeting via Zoom.
URL:https://straffordrpcnh.gov/event/resiliency-roundtable-june-2022/
LOCATION:Zoom
CATEGORIES:Resiliency Subcommittee
ORGANIZER;CN="Autumn Scott":MAILTO:ascott@strafford.org
END:VEVENT
BEGIN:VEVENT
DTSTART;TZID=America/New_York:20220623T113000
DTEND;TZID=America/New_York:20220623T143000
DTSTAMP:20260425T222503
CREATED:20210901T040212Z
LAST-MODIFIED:20220531T165222Z
UID:10000064-1655983800-1655994600@straffordrpcnh.gov
SUMMARY:SRPC 2022 Annual Meeting and Luncheon
DESCRIPTION:
URL:https://straffordrpcnh.gov/event/commission-meeting-2022-06-23/
LOCATION:Governor’s Inn\, Rochester\, 78 Wakefield St.\, Rochester\, NH\, 03867\, United States
CATEGORIES:Commission
ATTACH;FMTTYPE=image/png:https://straffordrpcnh.gov/wp-content/uploads/2021/09/eventtile_commmissioners.png
ORGANIZER;CN="Megan Taylor-Fetter":MAILTO:mtaylorfetter@straffordrpcnh.gov
END:VEVENT
BEGIN:VEVENT
DTSTART;TZID=America/New_York:20220623T170000
DTEND;TZID=America/New_York:20220623T203000
DTSTAMP:20260425T222503
CREATED:20210901T040212Z
LAST-MODIFIED:20211013T191326Z
UID:10000015-1656003600-1656016200@straffordrpcnh.gov
SUMMARY:Commission Meeting
DESCRIPTION:
URL:https://straffordrpcnh.gov/event/commission-meeting/2022-06-23/
LOCATION:Hybrid (In-Person and Online)\, 150 Wakefield Street\, Suite 12\, Rochester\, NH\, 03867\, United States
CATEGORIES:Commission
ATTACH;FMTTYPE=image/png:https://straffordrpcnh.gov/wp-content/uploads/2021/09/eventtile_commmissioners.png
ORGANIZER;CN="Megan Taylor-Fetter":MAILTO:mtaylorfetter@straffordrpcnh.gov
END:VEVENT
BEGIN:VEVENT
DTSTART;TZID=America/New_York:20220628T090000
DTEND;TZID=America/New_York:20220628T100000
DTSTAMP:20260425T222503
CREATED:20210812T193830Z
LAST-MODIFIED:20220524T131112Z
UID:10000018-1656406800-1656410400@straffordrpcnh.gov
SUMMARY:Bi-Weekly Seacoast Economy Call
DESCRIPTION:
URL:https://straffordrpcnh.gov/event/seacoast-economy-call/2022-06-28/
LOCATION:Zoom
CATEGORIES:EDD Committees
ATTACH;FMTTYPE=image/png:https://straffordrpcnh.gov/wp-content/uploads/2021/08/eventtile_seacoasteconomy.png
ORGANIZER;CN="James Burdin":MAILTO:jburdin@strafford.org
END:VEVENT
END:VCALENDAR