BEGIN:VCALENDAR
VERSION:2.0
PRODID:-//Strafford Regional Planning Commission - ECPv6.15.20//NONSGML v1.0//EN
CALSCALE:GREGORIAN
METHOD:PUBLISH
X-WR-CALNAME:Strafford Regional Planning Commission
X-ORIGINAL-URL:https://straffordrpcnh.gov
X-WR-CALDESC:Events for Strafford Regional Planning Commission
REFRESH-INTERVAL;VALUE=DURATION:PT1H
X-Robots-Tag:noindex
X-PUBLISHED-TTL:PT1H
BEGIN:VTIMEZONE
TZID:America/New_York
BEGIN:DAYLIGHT
TZOFFSETFROM:-0500
TZOFFSETTO:-0400
TZNAME:EDT
DTSTART:20210314T070000
END:DAYLIGHT
BEGIN:STANDARD
TZOFFSETFROM:-0400
TZOFFSETTO:-0500
TZNAME:EST
DTSTART:20211107T060000
END:STANDARD
BEGIN:DAYLIGHT
TZOFFSETFROM:-0500
TZOFFSETTO:-0400
TZNAME:EDT
DTSTART:20220313T070000
END:DAYLIGHT
BEGIN:STANDARD
TZOFFSETFROM:-0400
TZOFFSETTO:-0500
TZNAME:EST
DTSTART:20221106T060000
END:STANDARD
BEGIN:DAYLIGHT
TZOFFSETFROM:-0500
TZOFFSETTO:-0400
TZNAME:EDT
DTSTART:20230312T070000
END:DAYLIGHT
BEGIN:STANDARD
TZOFFSETFROM:-0400
TZOFFSETTO:-0500
TZNAME:EST
DTSTART:20231105T060000
END:STANDARD
END:VTIMEZONE
BEGIN:VEVENT
DTSTART;TZID=America/New_York:20220401T080000
DTEND;TZID=America/New_York:20220401T100000
DTSTAMP:20260425T233414
CREATED:20200603T213410Z
LAST-MODIFIED:20220328T141859Z
UID:10000073-1648800000-1648807200@straffordrpcnh.gov
SUMMARY:Technical Advisory Committee
DESCRIPTION:The Technical Advisory Committee of the Strafford Metropolitan Planning Commission occurs on the first Friday of each month from 8:00 – 9:00 a.m. These meetings are usually in-person but are currently taking place via Zoom due to the COVID-19 pandemic.
URL:https://straffordrpcnh.gov/event/technical-advisory-committee-2020-09-04-2022-04-01/
LOCATION:Zoom
CATEGORIES:MPO Committees,Technical Advisory Committee
ATTACH;FMTTYPE=image/png:https://straffordrpcnh.gov/wp-content/uploads/2021/10/eventtile_tac.png
ORGANIZER;CN="Colin Lentz":MAILTO:clentz@straffordrpcnh.gov
END:VEVENT
BEGIN:VEVENT
DTSTART;TZID=America/New_York:20220407T100000
DTEND;TZID=America/New_York:20220407T113000
DTSTAMP:20260425T233414
CREATED:20220405T150243Z
LAST-MODIFIED:20220405T150243Z
UID:10000106-1649325600-1649331000@straffordrpcnh.gov
SUMMARY:Resiliency Sub-Committee
DESCRIPTION:Meeting URL: https://tinyurl.com/23pkj9hh\nMeeting ID: 847 9727 1272\nTelephone-only Access: +1 646 558 8656
URL:https://straffordrpcnh.gov/event/resiliency-sub-committee-4/
LOCATION:Zoom
CATEGORIES:Resiliency Subcommittee
ORGANIZER;CN="Nancy O'Connor":MAILTO:noconnor@strafford.org
END:VEVENT
BEGIN:VEVENT
DTSTART;TZID=America/New_York:20220415T080000
DTEND;TZID=America/New_York:20220415T090000
DTSTAMP:20260425T233414
CREATED:20210812T193637Z
LAST-MODIFIED:20220412T202515Z
UID:10000045-1650009600-1650013200@straffordrpcnh.gov
SUMMARY:Executive Committee
DESCRIPTION:
URL:https://straffordrpcnh.gov/event/executive-committee-2022-04-15/
LOCATION:Hybrid (In-Person and Online)\, 150 Wakefield Street\, Suite 12\, Rochester\, NH\, 03867\, United States
CATEGORIES:Executive Committee
ATTACH;FMTTYPE=image/png:https://straffordrpcnh.gov/wp-content/uploads/2020/06/eventtile_ec.png
ORGANIZER;CN="Megan Taylor-Fetter":MAILTO:mtaylorfetter@straffordrpcnh.gov
END:VEVENT
BEGIN:VEVENT
DTSTART;TZID=America/New_York:20220415T090000
DTEND;TZID=America/New_York:20220415T110000
DTSTAMP:20260425T233414
CREATED:20210812T191847Z
LAST-MODIFIED:20220412T140052Z
UID:10000060-1650013200-1650020400@straffordrpcnh.gov
SUMMARY:Policy Committee
DESCRIPTION:Zoom meeting link: https://us02web.zoom.us/j/85802372877
URL:https://straffordrpcnh.gov/event/policy-committee-2021-09-17-2022-04-15/
LOCATION:Hybrid (In-Person and Online)\, 150 Wakefield Street\, Suite 12\, Rochester\, NH\, 03867\, United States
CATEGORIES:MPO Committees,Policy Committee
ATTACH;FMTTYPE=image/png:https://straffordrpcnh.gov/wp-content/uploads/2021/08/eventtile_policy.png
ORGANIZER;CN="Colin Lentz":MAILTO:clentz@straffordrpcnh.gov
END:VEVENT
END:VCALENDAR