BEGIN:VCALENDAR
VERSION:2.0
PRODID:-//Strafford Regional Planning Commission - ECPv6.15.20//NONSGML v1.0//EN
CALSCALE:GREGORIAN
METHOD:PUBLISH
X-ORIGINAL-URL:https://straffordrpcnh.gov
X-WR-CALDESC:Events for Strafford Regional Planning Commission
REFRESH-INTERVAL;VALUE=DURATION:PT1H
X-Robots-Tag:noindex
X-PUBLISHED-TTL:PT1H
BEGIN:VTIMEZONE
TZID:America/New_York
BEGIN:DAYLIGHT
TZOFFSETFROM:-0500
TZOFFSETTO:-0400
TZNAME:EDT
DTSTART:20280312T070000
END:DAYLIGHT
BEGIN:STANDARD
TZOFFSETFROM:-0400
TZOFFSETTO:-0500
TZNAME:EST
DTSTART:20281105T060000
END:STANDARD
BEGIN:DAYLIGHT
TZOFFSETFROM:-0500
TZOFFSETTO:-0400
TZNAME:EDT
DTSTART:20290311T070000
END:DAYLIGHT
BEGIN:STANDARD
TZOFFSETFROM:-0400
TZOFFSETTO:-0500
TZNAME:EST
DTSTART:20291104T060000
END:STANDARD
BEGIN:DAYLIGHT
TZOFFSETFROM:-0500
TZOFFSETTO:-0400
TZNAME:EDT
DTSTART:20300310T070000
END:DAYLIGHT
BEGIN:STANDARD
TZOFFSETFROM:-0400
TZOFFSETTO:-0500
TZNAME:EST
DTSTART:20301103T060000
END:STANDARD
END:VTIMEZONE
BEGIN:VEVENT
DTSTART;TZID=America/New_York:20290406T090000
DTEND;TZID=America/New_York:20290406T103000
DTSTAMP:20260425T084618
CREATED:20251104T183330Z
LAST-MODIFIED:20260424T142639Z
UID:10000550-1870160400-1870165800@straffordrpcnh.gov
SUMMARY:Technical Advisory Committee
DESCRIPTION:The Technical Advisory Committee of the Strafford Metropolitan Planning Commission occurs on the first Friday of each month from 9:00 – 10:30 a.m. \nIn accordance with RSA 91:A\, the Commission requires an in-person quorum. So long as an in-person quorum\, Commissioners may participate virtually. Guests may attend the meeting virtually or at the SRPC Office. All participants\, both in-person and virtual\, can communicate contemporaneously. \nMicrosoft Teams meeting \nJoin: https://teams.microsoft.com/meet/25055265161549?p=X30caUvWwVk68XwLEe \nMeeting ID: 250 552 651 615 49 \nPasscode: Pg2bT92d
URL:https://straffordrpcnh.gov/event/technical-advisory-committee-3-5-3-22/2029-04-06/
LOCATION:Hybrid (In-Person and Online)\, 150 Wakefield Street\, Suite 12\, Rochester\, NH\, 03867\, United States
CATEGORIES:MPO Committees,Technical Advisory Committee
ATTACH;FMTTYPE=image/png:https://straffordrpcnh.gov/wp-content/uploads/2021/10/eventtile_tac.png
ORGANIZER;CN="Colin Lentz":MAILTO:clentz@straffordrpcnh.gov
END:VEVENT
END:VCALENDAR