BEGIN:VCALENDAR
VERSION:2.0
PRODID:-//Strafford Regional Planning Commission - ECPv6.15.20//NONSGML v1.0//EN
CALSCALE:GREGORIAN
METHOD:PUBLISH
X-ORIGINAL-URL:https://straffordrpcnh.gov
X-WR-CALDESC:Events for Strafford Regional Planning Commission
REFRESH-INTERVAL;VALUE=DURATION:PT1H
X-Robots-Tag:noindex
X-PUBLISHED-TTL:PT1H
BEGIN:VTIMEZONE
TZID:America/New_York
BEGIN:DAYLIGHT
TZOFFSETFROM:-0500
TZOFFSETTO:-0400
TZNAME:EDT
DTSTART:20250309T070000
END:DAYLIGHT
BEGIN:STANDARD
TZOFFSETFROM:-0400
TZOFFSETTO:-0500
TZNAME:EST
DTSTART:20251102T060000
END:STANDARD
BEGIN:DAYLIGHT
TZOFFSETFROM:-0500
TZOFFSETTO:-0400
TZNAME:EDT
DTSTART:20260308T070000
END:DAYLIGHT
BEGIN:STANDARD
TZOFFSETFROM:-0400
TZOFFSETTO:-0500
TZNAME:EST
DTSTART:20261101T060000
END:STANDARD
BEGIN:DAYLIGHT
TZOFFSETFROM:-0500
TZOFFSETTO:-0400
TZNAME:EDT
DTSTART:20270314T070000
END:DAYLIGHT
BEGIN:STANDARD
TZOFFSETFROM:-0400
TZOFFSETTO:-0500
TZNAME:EST
DTSTART:20271107T060000
END:STANDARD
END:VTIMEZONE
BEGIN:VEVENT
DTSTART;TZID=America/New_York:20260424T120000
DTEND;TZID=America/New_York:20260424T140000
DTSTAMP:20260423T135543
CREATED:20260415T132156Z
LAST-MODIFIED:20260417T192109Z
UID:10000863-1777032000-1777039200@straffordrpcnh.gov
SUMMARY:EDD Strategy Committee
DESCRIPTION:The EDD Strategy Committee plays a central role in shaping the region’s economic development direction. It serves as the primary venue for stakeholder collaboration during the development\, update\, and implementation of the CEDS. \nThe Strategy Committee is responsible for: \n\nHelping identify regional strengths\, weaknesses\, opportunities\, and risks\nProviding input on economic trends affecting businesses\, workers\, and communities\nShaping the vision\, goals\, and strategies of the CEDS\nStrengthening coordination among local\, regional\, and sector-based partners\nHelping communicate regional needs and opportunities to decision-makers and funding agencies\n\nThis meeting requires an in-person quorum. So long as an in-person quorum\, members may participate virtually. Guests may attend the meeting virtually or at the SRPC Office\, 150 Wakefield Street\, Suite 12. All participants\, both in-person and virtual\, can communicate contemporaneously. \nMicrosoft Teams meeting \nJoin: https://teams.microsoft.com/meet/280176883976740?p=ubw02Hkf6HnK5GBCoS \nMeeting ID: 280 176 883 976 740 \nPasscode: 8eM98Go6
URL:https://straffordrpcnh.gov/event/edd-strategy-committee-5/
LOCATION:SRPC Office\, 150 Wakefield Street\, Suite 12\, Rochester\, NH\, 03867\, United States
END:VEVENT
END:VCALENDAR