BEGIN:VCALENDAR
VERSION:2.0
PRODID:-//Strafford Regional Planning Commission - ECPv6.15.20//NONSGML v1.0//EN
CALSCALE:GREGORIAN
METHOD:PUBLISH
X-WR-CALNAME:Strafford Regional Planning Commission
X-ORIGINAL-URL:https://straffordrpcnh.gov
X-WR-CALDESC:Events for Strafford Regional Planning Commission
REFRESH-INTERVAL;VALUE=DURATION:PT1H
X-Robots-Tag:noindex
X-PUBLISHED-TTL:PT1H
BEGIN:VTIMEZONE
TZID:America/New_York
BEGIN:DAYLIGHT
TZOFFSETFROM:-0500
TZOFFSETTO:-0400
TZNAME:EDT
DTSTART:20250309T070000
END:DAYLIGHT
BEGIN:STANDARD
TZOFFSETFROM:-0400
TZOFFSETTO:-0500
TZNAME:EST
DTSTART:20251102T060000
END:STANDARD
BEGIN:DAYLIGHT
TZOFFSETFROM:-0500
TZOFFSETTO:-0400
TZNAME:EDT
DTSTART:20260308T070000
END:DAYLIGHT
BEGIN:STANDARD
TZOFFSETFROM:-0400
TZOFFSETTO:-0500
TZNAME:EST
DTSTART:20261101T060000
END:STANDARD
BEGIN:DAYLIGHT
TZOFFSETFROM:-0500
TZOFFSETTO:-0400
TZNAME:EDT
DTSTART:20270314T070000
END:DAYLIGHT
BEGIN:STANDARD
TZOFFSETFROM:-0400
TZOFFSETTO:-0500
TZNAME:EST
DTSTART:20271107T060000
END:STANDARD
END:VTIMEZONE
BEGIN:VEVENT
DTSTART;TZID=America/New_York:20260417T080000
DTEND;TZID=America/New_York:20260417T090000
DTSTAMP:20260423T111447
CREATED:20260410T214651Z
LAST-MODIFIED:20260410T214844Z
UID:10000224-1776412800-1776416400@straffordrpcnh.gov
SUMMARY:Executive Committee
DESCRIPTION:
URL:https://straffordrpcnh.gov/event/executive-committee-7-2-19-16-3/
LOCATION:Hybrid (In-Person and Online)\, 150 Wakefield Street\, Suite 12\, Rochester\, NH\, 03867\, United States
CATEGORIES:Executive Committee
ATTACH;FMTTYPE=image/png:https://straffordrpcnh.gov/wp-content/uploads/2020/06/eventtile_ec.png
ORGANIZER;CN="Megan Taylor-Fetter":MAILTO:mtaylorfetter@straffordrpcnh.gov
END:VEVENT
BEGIN:VEVENT
DTSTART;TZID=America/New_York:20260417T090000
DTEND;TZID=America/New_York:20260417T103000
DTSTAMP:20260423T111447
CREATED:20260410T213218Z
LAST-MODIFIED:20260410T213219Z
UID:10000798-1776416400-1776421800@straffordrpcnh.gov
SUMMARY:Commissioner Meeting
DESCRIPTION:This hybrid meeting requires a quorum at our Rochester office\, however you may still attend remotely. \nMicrosoft Teams meeting \nJoin: https://teams.microsoft.com/meet/26158346669748?p=4xytesfYGFhcig30qO \nMeeting ID: 261 583 466 697 48 \nPasscode: fH7Va7Ph \nThe following draft schedule for the next year is based upon reformatting what is currently the Policy Meeting\, to allow for quarterly meetings of the: \n\nEDD: Economic Development District Board of Directors (Commissioners)\nMPO: Metropolitan Planning Organization Policy Com. (Commissioners + Partners)\nRPC: Regional Planning Commission (Commissioners)\n\nFrom time to time\, we will need to conduct joint meetings between the MPO\, EDD\, and RPC.  The tentative 3rd Friday of the month (9AM) schedule  is as follows for the next year: \nFri. Jul. 18\, 2025 9-10:30 AM\nFri. Aug. 15\, 2025 9-10:30 AM\nFri. Sep. 19\, 2025 9-10:30 AM\nThur. Sep. 25\, 2025 3:45-5:30 PM\nFri. Oct. 17\, 2025 9-10:30 AM\nFri\, Nov. 21\, 2025 9-10:30 AM\nThur. Dec. 11\, 2025 3:45-5:30 PM\nFri. Dec. 19\, 2025 9-10:30 AM\nFri\, Jan. 16\, 2026 9-10:30 AM\nFri. Feb. 20\, 2026 9-10:30 AM\nThu. Feb. 26\, 2026 3:45-5:30 PM\nFri. Mar. 20\, 2026 9-10:30 AM\nFri. Apr. 17\, 2026 9-10:30 AM\nFri. May 15\, 2026 9-10:30 AM\nFri. Jun. 19\, 2026 9-10:30 AM\nThu. June 25\, 2026 11 AM – 2 PM
URL:https://straffordrpcnh.gov/event/commissioner-meeting-11-22/
LOCATION:Hybrid (In-Person and Online)\, 150 Wakefield Street\, Suite 12\, Rochester\, NH\, 03867\, United States
CATEGORIES:Commission,EDD Committees,MPO Committees,Policy Committee,SRPC Committees
ATTACH;FMTTYPE=image/png:https://straffordrpcnh.gov/wp-content/uploads/2021/09/eventtile_commmissioners.png
ORGANIZER;CN="Megan Taylor-Fetter":MAILTO:mtaylorfetter@straffordrpcnh.gov
END:VEVENT
BEGIN:VEVENT
DTSTART;TZID=America/New_York:20260417T103000
DTEND;TZID=America/New_York:20260417T113000
DTSTAMP:20260423T111447
CREATED:20260415T131744Z
LAST-MODIFIED:20260415T131744Z
UID:10000874-1776421800-1776425400@straffordrpcnh.gov
SUMMARY:Regional Plan Subcommittee Meeting
DESCRIPTION:The Regional Plan Subcommittee is made up of SRPC Commissioners who provide input on guidance on the regional plan update project. 
URL:https://straffordrpcnh.gov/event/regional-plan-subcommittee-meeting-6/
LOCATION:SRPC Office\, 150 Wakefield Street\, Suite 12\, Rochester\, NH\, 03867\, United States
END:VEVENT
END:VCALENDAR