BEGIN:VCALENDAR
VERSION:2.0
PRODID:-//Strafford Regional Planning Commission - ECPv6.15.20//NONSGML v1.0//EN
CALSCALE:GREGORIAN
METHOD:PUBLISH
X-ORIGINAL-URL:https://straffordrpcnh.gov
X-WR-CALDESC:Events for Strafford Regional Planning Commission
REFRESH-INTERVAL;VALUE=DURATION:PT1H
X-Robots-Tag:noindex
X-PUBLISHED-TTL:PT1H
BEGIN:VTIMEZONE
TZID:America/New_York
BEGIN:DAYLIGHT
TZOFFSETFROM:-0500
TZOFFSETTO:-0400
TZNAME:EDT
DTSTART:20250309T070000
END:DAYLIGHT
BEGIN:STANDARD
TZOFFSETFROM:-0400
TZOFFSETTO:-0500
TZNAME:EST
DTSTART:20251102T060000
END:STANDARD
BEGIN:DAYLIGHT
TZOFFSETFROM:-0500
TZOFFSETTO:-0400
TZNAME:EDT
DTSTART:20260308T070000
END:DAYLIGHT
BEGIN:STANDARD
TZOFFSETFROM:-0400
TZOFFSETTO:-0500
TZNAME:EST
DTSTART:20261101T060000
END:STANDARD
BEGIN:DAYLIGHT
TZOFFSETFROM:-0500
TZOFFSETTO:-0400
TZNAME:EDT
DTSTART:20270314T070000
END:DAYLIGHT
BEGIN:STANDARD
TZOFFSETFROM:-0400
TZOFFSETTO:-0500
TZNAME:EST
DTSTART:20271107T060000
END:STANDARD
END:VTIMEZONE
BEGIN:VEVENT
DTSTART;TZID=America/New_York:20260130T120000
DTEND;TZID=America/New_York:20260130T140000
DTSTAMP:20260423T135444
CREATED:20260123T212914Z
LAST-MODIFIED:20260123T212914Z
UID:10000860-1769774400-1769781600@straffordrpcnh.gov
SUMMARY:EDD Strategy Committee
DESCRIPTION:The EDD Strategy Committee plays a central role in shaping the region’s economic development direction. It serves as the primary venue for stakeholder collaboration during the development\, update\, and implementation of the CEDS. \nThe Strategy Committee is responsible for: \n\nHelping identify regional strengths\, weaknesses\, opportunities\, and risks\nProviding input on economic trends affecting businesses\, workers\, and communities\nShaping the vision\, goals\, and strategies of the CEDS\nStrengthening coordination among local\, regional\, and sector-based partners\nHelping communicate regional needs and opportunities to decision-makers and funding agencies\n\nThis meeting requires an in-person quorum. So long as an in-person quorum\, members may participate virtually. Guests may attend the meeting virtually or at the SRPC Office\, 150 Wakefield Street\, Suite 12. All participants\, both in-person and virtual\, can communicate contemporaneously. \nZoom invite link: https://us02web.zoom.us/j/88023027097
URL:https://straffordrpcnh.gov/event/edd-strategy-committee-2/
LOCATION:SRPC Office\, 150 Wakefield Street\, Suite 12\, Rochester\, NH\, 03867\, United States
END:VEVENT
END:VCALENDAR