BEGIN:VCALENDAR
VERSION:2.0
PRODID:-//Strafford Regional Planning Commission - ECPv6.15.20//NONSGML v1.0//EN
CALSCALE:GREGORIAN
METHOD:PUBLISH
X-ORIGINAL-URL:https://straffordrpcnh.gov
X-WR-CALDESC:Events for Strafford Regional Planning Commission
REFRESH-INTERVAL;VALUE=DURATION:PT1H
X-Robots-Tag:noindex
X-PUBLISHED-TTL:PT1H
BEGIN:VTIMEZONE
TZID:America/New_York
BEGIN:DAYLIGHT
TZOFFSETFROM:-0500
TZOFFSETTO:-0400
TZNAME:EDT
DTSTART:20240310T070000
END:DAYLIGHT
BEGIN:STANDARD
TZOFFSETFROM:-0400
TZOFFSETTO:-0500
TZNAME:EST
DTSTART:20241103T060000
END:STANDARD
BEGIN:DAYLIGHT
TZOFFSETFROM:-0500
TZOFFSETTO:-0400
TZNAME:EDT
DTSTART:20250309T070000
END:DAYLIGHT
BEGIN:STANDARD
TZOFFSETFROM:-0400
TZOFFSETTO:-0500
TZNAME:EST
DTSTART:20251102T060000
END:STANDARD
BEGIN:DAYLIGHT
TZOFFSETFROM:-0500
TZOFFSETTO:-0400
TZNAME:EDT
DTSTART:20260308T070000
END:DAYLIGHT
BEGIN:STANDARD
TZOFFSETFROM:-0400
TZOFFSETTO:-0500
TZNAME:EST
DTSTART:20261101T060000
END:STANDARD
END:VTIMEZONE
BEGIN:VEVENT
DTSTART;TZID=America/New_York:20250925T160000
DTEND;TZID=America/New_York:20250925T173000
DTSTAMP:20260423T200409
CREATED:20250923T161317Z
LAST-MODIFIED:20250923T161353Z
UID:10000763-1758816000-1758821400@straffordrpcnh.gov
SUMMARY:Commissioner Meeting-Field Trip
DESCRIPTION:Housing Discussion with SRPC Communities and the UNH Student Planning Club \nJoin SRPC Commissioners as they share recent housing initiatives\, including zoning and regulatory changes\, from their community. Students from UNH’s Planning Club will lead a group discussion about housing challenges and solutions. Join us for a fun opportunity to learn more about work across the region and connect with the next generation of planners.\n  \nWhen: September 25\, 2025\, from 4:00 to 5:30 pm\nWhere: Barton Hall\, University of NH\, Durham\, NH (directions will be emailed to registrants) \nAgenda:  \n\n4:00 to 4:15 pm: Networking & Introductions\n\n\n4:15 to 5:00 pm: Commissioner Presentations and Questions\n\n\n5:00 to 5:30 pm: Discussion led by the UNH Planning Club\n\nParking & Directions: \n\nParking Address: Enter “20 Sage Way” in your GPS ($1.85/hr)\nParking App: ParkMobile – we recommend downloading and creating an account ahead of time\nEntrance: Use the front entrance of Barton Hall (rear entrance leads to a veterinary clinic)\nRoom: Proceed to Room 134\, located to the right after entering\nStart Time: The event will begin at 4:00 PM
URL:https://straffordrpcnh.gov/event/commissioner-meeting-field-trip/
LOCATION:NH
END:VEVENT
END:VCALENDAR