BEGIN:VCALENDAR
VERSION:2.0
PRODID:-//Strafford Regional Planning Commission - ECPv6.15.20//NONSGML v1.0//EN
CALSCALE:GREGORIAN
METHOD:PUBLISH
X-WR-CALNAME:Strafford Regional Planning Commission
X-ORIGINAL-URL:https://straffordrpcnh.gov
X-WR-CALDESC:Events for Strafford Regional Planning Commission
REFRESH-INTERVAL;VALUE=DURATION:PT1H
X-Robots-Tag:noindex
X-PUBLISHED-TTL:PT1H
BEGIN:VTIMEZONE
TZID:America/New_York
BEGIN:DAYLIGHT
TZOFFSETFROM:-0500
TZOFFSETTO:-0400
TZNAME:EDT
DTSTART:20240310T070000
END:DAYLIGHT
BEGIN:STANDARD
TZOFFSETFROM:-0400
TZOFFSETTO:-0500
TZNAME:EST
DTSTART:20241103T060000
END:STANDARD
BEGIN:DAYLIGHT
TZOFFSETFROM:-0500
TZOFFSETTO:-0400
TZNAME:EDT
DTSTART:20250309T070000
END:DAYLIGHT
BEGIN:STANDARD
TZOFFSETFROM:-0400
TZOFFSETTO:-0500
TZNAME:EST
DTSTART:20251102T060000
END:STANDARD
BEGIN:DAYLIGHT
TZOFFSETFROM:-0500
TZOFFSETTO:-0400
TZNAME:EDT
DTSTART:20260308T070000
END:DAYLIGHT
BEGIN:STANDARD
TZOFFSETFROM:-0400
TZOFFSETTO:-0500
TZNAME:EST
DTSTART:20261101T060000
END:STANDARD
END:VTIMEZONE
BEGIN:VEVENT
DTSTART;TZID=America/New_York:20250620T080000
DTEND;TZID=America/New_York:20250620T090000
DTSTAMP:20260423T233542
CREATED:20250613T212602Z
LAST-MODIFIED:20250613T212602Z
UID:10000214-1750406400-1750410000@straffordrpcnh.gov
SUMMARY:Executive Committee
DESCRIPTION:
URL:https://straffordrpcnh.gov/event/executive-committee-7-2-19-9/
LOCATION:Hybrid (In-Person and Online)\, 150 Wakefield Street\, Suite 12\, Rochester\, NH\, 03867\, United States
CATEGORIES:Executive Committee
ATTACH;FMTTYPE=image/png:https://straffordrpcnh.gov/wp-content/uploads/2020/06/eventtile_ec.png
ORGANIZER;CN="Megan Taylor-Fetter":MAILTO:mtaylorfetter@straffordrpcnh.gov
END:VEVENT
BEGIN:VEVENT
DTSTART;TZID=America/New_York:20250620T090000
DTEND;TZID=America/New_York:20250620T110000
DTSTAMP:20260423T233542
CREATED:20250612T180416Z
LAST-MODIFIED:20250613T212334Z
UID:10000653-1750410000-1750417200@straffordrpcnh.gov
SUMMARY:Commissioner MPO/EDD/RPC Meeting
DESCRIPTION:This hybrid meeting requires a quorum at our Rochester office\, however you may still attend remotely. Join the meeting in Zoom: https://us02web.zoom.us/j/85802372877  \nThe following draft schedule for the next year is based upon reformatting what is currently the Policy Meeting\, to allow for quarterly meetings of the: \n\nEDD: Economic Development District Board of Directors (Commissioners)\nMPO: Metropolitan Planning Organization Policy Com. (Commissioners + Partners)\nRPC: Regional Planning Commission (Commissioners)\n\nFrom time to time\, we will need to conduct joint meetings between the MPO\, EDD\, and RPC.  The tentative 3rd Friday of the month (9AM) schedule  is as follows for the next year: \n\nFri. Jul. 12\, 2024 9-10:30 AM Joint meeting MPO Policy/TAC\nFri. Aug. 16\, 2024 9-10:30 AM SRPC MPO\nFri. Sep. 20\, 2024 9-10:30 AM SRPC RPC\nFri. Oct. 18\, 2024 9-10:30 AM SRPC MPO\nFri\, Nov. 15\, 2024 9-10:30 AM SRPC EDD\nFri. Dec. 20\, 2024 9-10:30 AM SRPC RPC\nFri\, Jan. 17\, 2025 9-10:30 AM SRPC MPO\nFri. Feb. 21\, 2025 9-10:30 AM SRPC EDD\nFri. Mar. 21\, 2025 9-10:30 AM SRPC RPC\nFri. Apr. 18\, 2025 9-10:30 AM SRPC MPO\nFri. May 16\, 2025 9-10:30 AM SRPC EDD\nFri. Jun. 20\, 2025 9-10:30 AM SRPC RPC/MPO/EDD
URL:https://straffordrpcnh.gov/event/commissioner-meeting-11-11/
LOCATION:Hybrid (In-Person and Online)\, 150 Wakefield Street\, Suite 12\, Rochester\, NH\, 03867\, United States
CATEGORIES:Commission,EDD Committees,MPO Committees,Policy Committee,SRPC Committees
ATTACH;FMTTYPE=image/png:https://straffordrpcnh.gov/wp-content/uploads/2021/09/eventtile_commmissioners.png
ORGANIZER;CN="Megan Taylor-Fetter":MAILTO:mtaylorfetter@straffordrpcnh.gov
END:VEVENT
BEGIN:VEVENT
DTSTART;TZID=America/New_York:20250620T110000
DTEND;TZID=America/New_York:20250620T120000
DTSTAMP:20260423T233542
CREATED:20250618T143214Z
LAST-MODIFIED:20250618T143214Z
UID:10000748-1750417200-1750420800@straffordrpcnh.gov
SUMMARY:Regional Plan Subcommittee
DESCRIPTION:
URL:https://straffordrpcnh.gov/event/regional-plan-subcommittee/
LOCATION:NH
CATEGORIES:EDD Committees,SRPC Committees
END:VEVENT
END:VCALENDAR