BEGIN:VCALENDAR
VERSION:2.0
PRODID:-//Strafford Regional Planning Commission - ECPv6.15.20//NONSGML v1.0//EN
CALSCALE:GREGORIAN
METHOD:PUBLISH
X-WR-CALNAME:Strafford Regional Planning Commission
X-ORIGINAL-URL:https://straffordrpcnh.gov
X-WR-CALDESC:Events for Strafford Regional Planning Commission
REFRESH-INTERVAL;VALUE=DURATION:PT1H
X-Robots-Tag:noindex
X-PUBLISHED-TTL:PT1H
BEGIN:VTIMEZONE
TZID:America/New_York
BEGIN:DAYLIGHT
TZOFFSETFROM:-0500
TZOFFSETTO:-0400
TZNAME:EDT
DTSTART:20230312T070000
END:DAYLIGHT
BEGIN:STANDARD
TZOFFSETFROM:-0400
TZOFFSETTO:-0500
TZNAME:EST
DTSTART:20231105T060000
END:STANDARD
BEGIN:DAYLIGHT
TZOFFSETFROM:-0500
TZOFFSETTO:-0400
TZNAME:EDT
DTSTART:20240310T070000
END:DAYLIGHT
BEGIN:STANDARD
TZOFFSETFROM:-0400
TZOFFSETTO:-0500
TZNAME:EST
DTSTART:20241103T060000
END:STANDARD
BEGIN:DAYLIGHT
TZOFFSETFROM:-0500
TZOFFSETTO:-0400
TZNAME:EDT
DTSTART:20250309T070000
END:DAYLIGHT
BEGIN:STANDARD
TZOFFSETFROM:-0400
TZOFFSETTO:-0500
TZNAME:EST
DTSTART:20251102T060000
END:STANDARD
END:VTIMEZONE
BEGIN:VEVENT
DTSTART;TZID=America/New_York:20240208T150000
DTEND;TZID=America/New_York:20240208T160000
DTSTAMP:20260424T191757
CREATED:20240202T155240Z
LAST-MODIFIED:20240206T181101Z
UID:10000543-1707404400-1707408000@straffordrpcnh.gov
SUMMARY:Regional Impact Committee
DESCRIPTION:The Regional Impact Committee has scheduled a meeting to review two new cases. In January\, the Town of Nottingham declared a development of regional impact due to potential traffic impacts for a propsoed 17-home subsivision with frontage on Route 156. Also in January\, the Town of Raymond declared a development of regional impact due to potential vehicle traffic impacts from a proposed development of over 100 units of multifamily housing. Regional Impact Committees are assembled to facilitate discussion about potential impacts from major developments on neighboring municipalities and act in an advisory role to the respective municipality’s land use boards.
URL:https://straffordrpcnh.gov/event/regional-impact-committee-2/
LOCATION:SRPC Office\, 150 Wakefield Street\, Suite 12\, Rochester\, NH\, 03867\, United States
CATEGORIES:Regional Impact Committee
END:VEVENT
END:VCALENDAR