BEGIN:VCALENDAR
VERSION:2.0
PRODID:-//Strafford Regional Planning Commission - ECPv6.15.20//NONSGML v1.0//EN
CALSCALE:GREGORIAN
METHOD:PUBLISH
X-WR-CALNAME:Strafford Regional Planning Commission
X-ORIGINAL-URL:https://straffordrpcnh.gov
X-WR-CALDESC:Events for Strafford Regional Planning Commission
REFRESH-INTERVAL;VALUE=DURATION:PT1H
X-Robots-Tag:noindex
X-PUBLISHED-TTL:PT1H
BEGIN:VTIMEZONE
TZID:America/New_York
BEGIN:DAYLIGHT
TZOFFSETFROM:-0500
TZOFFSETTO:-0400
TZNAME:EDT
DTSTART:20230312T070000
END:DAYLIGHT
BEGIN:STANDARD
TZOFFSETFROM:-0400
TZOFFSETTO:-0500
TZNAME:EST
DTSTART:20231105T060000
END:STANDARD
BEGIN:DAYLIGHT
TZOFFSETFROM:-0500
TZOFFSETTO:-0400
TZNAME:EDT
DTSTART:20240310T070000
END:DAYLIGHT
BEGIN:STANDARD
TZOFFSETFROM:-0400
TZOFFSETTO:-0500
TZNAME:EST
DTSTART:20241103T060000
END:STANDARD
BEGIN:DAYLIGHT
TZOFFSETFROM:-0500
TZOFFSETTO:-0400
TZNAME:EDT
DTSTART:20250309T070000
END:DAYLIGHT
BEGIN:STANDARD
TZOFFSETFROM:-0400
TZOFFSETTO:-0500
TZNAME:EST
DTSTART:20251102T060000
END:STANDARD
END:VTIMEZONE
BEGIN:VEVENT
DTSTART;TZID=America/New_York:20240123T090000
DTEND;TZID=America/New_York:20240123T100000
DTSTAMP:20260424T202839
CREATED:20231107T212254Z
LAST-MODIFIED:20231222T171130Z
UID:10000471-1706000400-1706004000@straffordrpcnh.gov
SUMMARY:Seacoast Economic Development Stakeholders
DESCRIPTION:The Seacoast Economic Development Stakeholders (SEDS) is a collective entity of economic development stakeholders from Strafford and Rockingham Counties who meet regularly to collaborate\, share information and resources\, and work collaboratively to promote the economic vitality of our communities and region. To join this call\, please email your name and affiliation to: acleveland@strafford.org. \nLearn more about this collaboration here. \nView past meetings via SRPC’s YouTube playlist.
URL:https://straffordrpcnh.gov/event/seacoast-economic-development-stakeholders/2024-01-23/
LOCATION:NH
CATEGORIES:EDD Committees,EDD Strategy Committee
END:VEVENT
END:VCALENDAR