BEGIN:VCALENDAR
VERSION:2.0
PRODID:-//Strafford Regional Planning Commission - ECPv6.15.20//NONSGML v1.0//EN
CALSCALE:GREGORIAN
METHOD:PUBLISH
X-ORIGINAL-URL:https://straffordrpcnh.gov
X-WR-CALDESC:Events for Strafford Regional Planning Commission
REFRESH-INTERVAL;VALUE=DURATION:PT1H
X-Robots-Tag:noindex
X-PUBLISHED-TTL:PT1H
BEGIN:VTIMEZONE
TZID:America/New_York
BEGIN:DAYLIGHT
TZOFFSETFROM:-0500
TZOFFSETTO:-0400
TZNAME:EDT
DTSTART:20220313T070000
END:DAYLIGHT
BEGIN:STANDARD
TZOFFSETFROM:-0400
TZOFFSETTO:-0500
TZNAME:EST
DTSTART:20221106T060000
END:STANDARD
BEGIN:DAYLIGHT
TZOFFSETFROM:-0500
TZOFFSETTO:-0400
TZNAME:EDT
DTSTART:20230312T070000
END:DAYLIGHT
BEGIN:STANDARD
TZOFFSETFROM:-0400
TZOFFSETTO:-0500
TZNAME:EST
DTSTART:20231105T060000
END:STANDARD
BEGIN:DAYLIGHT
TZOFFSETFROM:-0500
TZOFFSETTO:-0400
TZNAME:EDT
DTSTART:20240310T070000
END:DAYLIGHT
BEGIN:STANDARD
TZOFFSETFROM:-0400
TZOFFSETTO:-0500
TZNAME:EST
DTSTART:20241103T060000
END:STANDARD
END:VTIMEZONE
BEGIN:VEVENT
DTSTART;TZID=America/New_York:20230622T113000
DTEND;TZID=America/New_York:20230622T143000
DTSTAMP:20260425T070022
CREATED:20220822T173501Z
LAST-MODIFIED:20230607T132452Z
UID:10000145-1687433400-1687444200@straffordrpcnh.gov
SUMMARY:Commission Annual Luncheon
DESCRIPTION:Join SRPC for the 2023 Annual Luncheon. Our topic this year will be Planning for Solar. \n When: Thursday\, June 22\, 2023 from 11:30 AM to 2:30 pm EDT \nWhere: Governor’s Inn\n78 Wakefield Street\nRochester\, NH 03867 \n Contact: Natalie Gemma\nStrafford Regional Planning Commission\n603-994-3500\nnmoles@strafford.org \nTo register\, please click HERE.
URL:https://straffordrpcnh.gov/event/commission-meeting-5/
LOCATION:Governor’s Inn\, Rochester\, 78 Wakefield St.\, Rochester\, NH\, 03867\, United States
CATEGORIES:Commission
ATTACH;FMTTYPE=image/png:https://straffordrpcnh.gov/wp-content/uploads/2021/09/eventtile_commmissioners.png
ORGANIZER;CN="Megan Taylor-Fetter":MAILTO:mtaylorfetter@straffordrpcnh.gov
END:VEVENT
END:VCALENDAR