BEGIN:VCALENDAR
VERSION:2.0
PRODID:-//Strafford Regional Planning Commission - ECPv6.15.20//NONSGML v1.0//EN
CALSCALE:GREGORIAN
METHOD:PUBLISH
X-ORIGINAL-URL:https://straffordrpcnh.gov
X-WR-CALDESC:Events for Strafford Regional Planning Commission
REFRESH-INTERVAL;VALUE=DURATION:PT1H
X-Robots-Tag:noindex
X-PUBLISHED-TTL:PT1H
BEGIN:VTIMEZONE
TZID:America/New_York
BEGIN:DAYLIGHT
TZOFFSETFROM:-0500
TZOFFSETTO:-0400
TZNAME:EDT
DTSTART:20220313T070000
END:DAYLIGHT
BEGIN:STANDARD
TZOFFSETFROM:-0400
TZOFFSETTO:-0500
TZNAME:EST
DTSTART:20221106T060000
END:STANDARD
BEGIN:DAYLIGHT
TZOFFSETFROM:-0500
TZOFFSETTO:-0400
TZNAME:EDT
DTSTART:20230312T070000
END:DAYLIGHT
BEGIN:STANDARD
TZOFFSETFROM:-0400
TZOFFSETTO:-0500
TZNAME:EST
DTSTART:20231105T060000
END:STANDARD
BEGIN:DAYLIGHT
TZOFFSETFROM:-0500
TZOFFSETTO:-0400
TZNAME:EDT
DTSTART:20240310T070000
END:DAYLIGHT
BEGIN:STANDARD
TZOFFSETFROM:-0400
TZOFFSETTO:-0500
TZNAME:EST
DTSTART:20241103T060000
END:STANDARD
END:VTIMEZONE
BEGIN:VEVENT
DTSTART;TZID=America/New_York:20230317T080000
DTEND;TZID=America/New_York:20230317T090000
DTSTAMP:20260425T104918
CREATED:20230310T165618Z
LAST-MODIFIED:20230310T165845Z
UID:10000184-1679040000-1679043600@straffordrpcnh.gov
SUMMARY:Executive Committee
DESCRIPTION:
URL:https://straffordrpcnh.gov/event/executive-committee-7-2-3/
LOCATION:Hybrid (In-Person and Online)\, 150 Wakefield Street\, Suite 12\, Rochester\, NH\, 03867\, United States
CATEGORIES:Executive Committee
ATTACH;FMTTYPE=image/png:https://straffordrpcnh.gov/wp-content/uploads/2020/06/eventtile_ec.png
ORGANIZER;CN="Megan Taylor-Fetter":MAILTO:mtaylorfetter@straffordrpcnh.gov
END:VEVENT
BEGIN:VEVENT
DTSTART;TZID=America/New_York:20230317T090000
DTEND;TZID=America/New_York:20230317T110000
DTSTAMP:20260425T104918
CREATED:20230210T191257Z
LAST-MODIFIED:20230310T194356Z
UID:10000120-1679043600-1679050800@straffordrpcnh.gov
SUMMARY:Joint Meeting of the Policy Committee and SRPC Commission and Draft 2023 Public Hearing
DESCRIPTION:SRPC will hold its regularly scheduled March Policy meeting as a joint meeting of the Commission to hold a public hearing for the Draft 2023 RHNHA. \nThe Strafford Regional Planning Commission is holding a public comment period and public hearing on its Regional Housing Needs Assessment (RHNA) in accordance with RSA 36:47. The public hearing can be attended in person or via Zoom: \n\nSRPC’s Conference Room 1A\, 150 Wakefield Street\, Rochester\, NH or\n Online/Telephonically via Zoom:\n\nhttps://us02web.zoom.us/j/85802372877\nMeeting ID: 858 0237 2877\nTelephone-only Access: 1-646-558-8656\n\n\n\nIf anybody has a problem accessing the hearing or needs special arrangements\, please email srpc@strafford.org or call 603-994-3500 x115.
URL:https://straffordrpcnh.gov/event/policy-committee-2-6/
LOCATION:Hybrid (In-Person and Online)\, 150 Wakefield Street\, Suite 12\, Rochester\, NH\, 03867\, United States
CATEGORIES:MPO Committees,Policy Committee
ATTACH;FMTTYPE=image/png:https://straffordrpcnh.gov/wp-content/uploads/2021/08/eventtile_policy.png
ORGANIZER;CN="Colin Lentz":MAILTO:clentz@straffordrpcnh.gov
END:VEVENT
END:VCALENDAR