BEGIN:VCALENDAR
VERSION:2.0
PRODID:-//Strafford Regional Planning Commission - ECPv6.15.20//NONSGML v1.0//EN
CALSCALE:GREGORIAN
METHOD:PUBLISH
X-WR-CALNAME:Strafford Regional Planning Commission
X-ORIGINAL-URL:https://straffordrpcnh.gov
X-WR-CALDESC:Events for Strafford Regional Planning Commission
REFRESH-INTERVAL;VALUE=DURATION:PT1H
X-Robots-Tag:noindex
X-PUBLISHED-TTL:PT1H
BEGIN:VTIMEZONE
TZID:America/New_York
BEGIN:DAYLIGHT
TZOFFSETFROM:-0500
TZOFFSETTO:-0400
TZNAME:EDT
DTSTART:20220313T070000
END:DAYLIGHT
BEGIN:STANDARD
TZOFFSETFROM:-0400
TZOFFSETTO:-0500
TZNAME:EST
DTSTART:20221106T060000
END:STANDARD
BEGIN:DAYLIGHT
TZOFFSETFROM:-0500
TZOFFSETTO:-0400
TZNAME:EDT
DTSTART:20230312T070000
END:DAYLIGHT
BEGIN:STANDARD
TZOFFSETFROM:-0400
TZOFFSETTO:-0500
TZNAME:EST
DTSTART:20231105T060000
END:STANDARD
BEGIN:DAYLIGHT
TZOFFSETFROM:-0500
TZOFFSETTO:-0400
TZNAME:EDT
DTSTART:20240310T070000
END:DAYLIGHT
BEGIN:STANDARD
TZOFFSETFROM:-0400
TZOFFSETTO:-0500
TZNAME:EST
DTSTART:20241103T060000
END:STANDARD
END:VTIMEZONE
BEGIN:VEVENT
DTSTART;TZID=America/New_York:20230123T130000
DTEND;TZID=America/New_York:20230123T143000
DTSTAMP:20260425T131547
CREATED:20230106T202959Z
LAST-MODIFIED:20230106T203547Z
UID:10000163-1674478800-1674484200@straffordrpcnh.gov
SUMMARY:Resiliency Roundtable - "Improving Your Energy Efficiency with NH Saves"
DESCRIPTION:Join SRPC for its next Resiliency Roundtable focused on “Improving Your Energy Efficiency with NHSaves” on Monday\, Jan. 23 at 1 p.m.  \nRepresentatives from NH Saves will join SRPC to discuss energy efficiency and cost-savings opportunities through the NH Saves program. The session will conclude with a Q and A with the presenters David Beaulieu\, Brad Hunter\, and Frank Melanson.  \nRegistration is required in order to receive the link to the meeting.   \n 
URL:https://straffordrpcnh.gov/event/resiliency-roundtable-improving-your-energy-efficiency-with-nh-saves/
LOCATION:Zoom
CATEGORIES:Resiliency Subcommittee
ORGANIZER;CN="Autumn Scott":MAILTO:ascott@strafford.org
END:VEVENT
END:VCALENDAR