BEGIN:VCALENDAR
VERSION:2.0
PRODID:-//Strafford Regional Planning Commission - ECPv6.15.20//NONSGML v1.0//EN
CALSCALE:GREGORIAN
METHOD:PUBLISH
X-ORIGINAL-URL:https://straffordrpcnh.gov
X-WR-CALDESC:Events for Strafford Regional Planning Commission
REFRESH-INTERVAL;VALUE=DURATION:PT1H
X-Robots-Tag:noindex
X-PUBLISHED-TTL:PT1H
BEGIN:VTIMEZONE
TZID:America/New_York
BEGIN:DAYLIGHT
TZOFFSETFROM:-0500
TZOFFSETTO:-0400
TZNAME:EDT
DTSTART:20220313T070000
END:DAYLIGHT
BEGIN:STANDARD
TZOFFSETFROM:-0400
TZOFFSETTO:-0500
TZNAME:EST
DTSTART:20221106T060000
END:STANDARD
BEGIN:DAYLIGHT
TZOFFSETFROM:-0500
TZOFFSETTO:-0400
TZNAME:EDT
DTSTART:20230312T070000
END:DAYLIGHT
BEGIN:STANDARD
TZOFFSETFROM:-0400
TZOFFSETTO:-0500
TZNAME:EST
DTSTART:20231105T060000
END:STANDARD
BEGIN:DAYLIGHT
TZOFFSETFROM:-0500
TZOFFSETTO:-0400
TZNAME:EDT
DTSTART:20240310T070000
END:DAYLIGHT
BEGIN:STANDARD
TZOFFSETFROM:-0400
TZOFFSETTO:-0500
TZNAME:EST
DTSTART:20241103T060000
END:STANDARD
END:VTIMEZONE
BEGIN:VEVENT
DTSTART;TZID=America/New_York:20230120T080000
DTEND;TZID=America/New_York:20230120T090000
DTSTAMP:20260425T131910
CREATED:20230113T221729Z
LAST-MODIFIED:20230119T170055Z
UID:10000165-1674201600-1674205200@straffordrpcnh.gov
SUMMARY:Executive Committee (UPDATE: Online Only)
DESCRIPTION:1/19 UPDATE: This meeting will now be held online only due to impending winter weather. \nAccess the meeting remotely via Zoom:\nhttps://us02web.zoom.us/j/84905778392\n849 0577 8392\n: +1 312 626 6799
URL:https://straffordrpcnh.gov/event/executive-committee-6/
LOCATION:Zoom
CATEGORIES:Executive Committee
ATTACH;FMTTYPE=image/png:https://straffordrpcnh.gov/wp-content/uploads/2020/06/eventtile_ec.png
ORGANIZER;CN="Megan Taylor-Fetter":MAILTO:mtaylorfetter@straffordrpcnh.gov
END:VEVENT
BEGIN:VEVENT
DTSTART;TZID=America/New_York:20230120T090000
DTEND;TZID=America/New_York:20230120T110000
DTSTAMP:20260425T131910
CREATED:20230117T215706Z
LAST-MODIFIED:20230119T172329Z
UID:10000118-1674205200-1674212400@straffordrpcnh.gov
SUMMARY:Policy Committee (UPDATE: Online Only)
DESCRIPTION:1/19 UPDATE: This meeting will now be held online only due to impending winter weather. \nAccess the meeting remotely via Zoom: \nMeeting URL: https://us02web.zoom.us/j/85802372877\nMeeting ID: 858 0237 2877\nTelephone-only Access: +1 646 558 8656
URL:https://straffordrpcnh.gov/event/policy-committee-2-4/
LOCATION:Zoom
CATEGORIES:MPO Committees,Policy Committee
ATTACH;FMTTYPE=image/png:https://straffordrpcnh.gov/wp-content/uploads/2021/08/eventtile_policy.png
ORGANIZER;CN="Colin Lentz":MAILTO:clentz@straffordrpcnh.gov
END:VEVENT
END:VCALENDAR