BEGIN:VCALENDAR
VERSION:2.0
PRODID:-//Strafford Regional Planning Commission - ECPv6.15.20//NONSGML v1.0//EN
CALSCALE:GREGORIAN
METHOD:PUBLISH
X-ORIGINAL-URL:https://straffordrpcnh.gov
X-WR-CALDESC:Events for Strafford Regional Planning Commission
REFRESH-INTERVAL;VALUE=DURATION:PT1H
X-Robots-Tag:noindex
X-PUBLISHED-TTL:PT1H
BEGIN:VTIMEZONE
TZID:America/New_York
BEGIN:DAYLIGHT
TZOFFSETFROM:-0500
TZOFFSETTO:-0400
TZNAME:EDT
DTSTART:20210314T070000
END:DAYLIGHT
BEGIN:STANDARD
TZOFFSETFROM:-0400
TZOFFSETTO:-0500
TZNAME:EST
DTSTART:20211107T060000
END:STANDARD
BEGIN:DAYLIGHT
TZOFFSETFROM:-0500
TZOFFSETTO:-0400
TZNAME:EDT
DTSTART:20220313T070000
END:DAYLIGHT
BEGIN:STANDARD
TZOFFSETFROM:-0400
TZOFFSETTO:-0500
TZNAME:EST
DTSTART:20221106T060000
END:STANDARD
BEGIN:DAYLIGHT
TZOFFSETFROM:-0500
TZOFFSETTO:-0400
TZNAME:EDT
DTSTART:20230312T070000
END:DAYLIGHT
BEGIN:STANDARD
TZOFFSETFROM:-0400
TZOFFSETTO:-0500
TZNAME:EST
DTSTART:20231105T060000
END:STANDARD
END:VTIMEZONE
BEGIN:VEVENT
DTSTART;TZID=America/New_York:20220923T130000
DTEND;TZID=America/New_York:20220923T143000
DTSTAMP:20260425T185818
CREATED:20220906T171135Z
LAST-MODIFIED:20220909T170555Z
UID:10000147-1663938000-1663943400@straffordrpcnh.gov
SUMMARY:Resiliency Roundtable - "Protecting Our Local Food Systems" Part II
DESCRIPTION:As part two of its Resiliency Roundtable focused on “Protecting Our Local Food Systems”\, SRPC will host Theresa Walker\, Amy Manzelli\, and Ellen Karelitz on Friday\, Sept. 23 from 1:00-2:30 p.m. \nTheresa and Amy will present on the Local Regulation of Agriculture Toolkit\, followed by Ellen\, one of the Wagon Hill Community Garden founders\, speaking about the gardens success and how others can start up a community garden. \nThis is a virtual event and interested participants can register via Zoom.
URL:https://straffordrpcnh.gov/event/resiliency-roundtable-20220923/
LOCATION:Zoom
CATEGORIES:Resiliency Subcommittee
ORGANIZER;CN="Autumn Scott":MAILTO:ascott@strafford.org
END:VEVENT
END:VCALENDAR