BEGIN:VCALENDAR
VERSION:2.0
PRODID:-//Strafford Regional Planning Commission - ECPv6.15.20//NONSGML v1.0//EN
CALSCALE:GREGORIAN
METHOD:PUBLISH
X-WR-CALNAME:Strafford Regional Planning Commission
X-ORIGINAL-URL:https://straffordrpcnh.gov
X-WR-CALDESC:Events for Strafford Regional Planning Commission
REFRESH-INTERVAL;VALUE=DURATION:PT1H
X-Robots-Tag:noindex
X-PUBLISHED-TTL:PT1H
BEGIN:VTIMEZONE
TZID:America/New_York
BEGIN:DAYLIGHT
TZOFFSETFROM:-0500
TZOFFSETTO:-0400
TZNAME:EDT
DTSTART:20210314T070000
END:DAYLIGHT
BEGIN:STANDARD
TZOFFSETFROM:-0400
TZOFFSETTO:-0500
TZNAME:EST
DTSTART:20211107T060000
END:STANDARD
BEGIN:DAYLIGHT
TZOFFSETFROM:-0500
TZOFFSETTO:-0400
TZNAME:EDT
DTSTART:20220313T070000
END:DAYLIGHT
BEGIN:STANDARD
TZOFFSETFROM:-0400
TZOFFSETTO:-0500
TZNAME:EST
DTSTART:20221106T060000
END:STANDARD
BEGIN:DAYLIGHT
TZOFFSETFROM:-0500
TZOFFSETTO:-0400
TZNAME:EDT
DTSTART:20230312T070000
END:DAYLIGHT
BEGIN:STANDARD
TZOFFSETFROM:-0400
TZOFFSETTO:-0500
TZNAME:EST
DTSTART:20231105T060000
END:STANDARD
END:VTIMEZONE
BEGIN:VEVENT
DTSTART;TZID=America/New_York:20220620T090000
DTEND;TZID=America/New_York:20220620T103000
DTSTAMP:20260425T221859
CREATED:20220603T164958Z
LAST-MODIFIED:20220610T151109Z
UID:10000109-1655715600-1655721000@straffordrpcnh.gov
SUMMARY:Resiliency Roundtable
DESCRIPTION:SRPC’s Resiliency Roundtable\, originally planned for May 19\, has now been rescheduled for Jun. 20\, from 9:00 -10:30 a.m. \nJoin our panelists Jeremy Lougee (SELT) and Allison Leach (UNH Sustainability Institute)\, as they discuss: \n\nthe ways agriculture can impact the environment\nsolutions for a more resilient food system\,\nthe region’s agricultural landscape and related assets and challenges.\n\nSRPC has also invited Erin Hale\, a Research and Planning Associate with Food Solutions New England to discuss some of the work being done by New England Feeding New England and any engagement opportunities they may have. \nThis resiliency roundtable topic will be carried out over two different roundtables\, the second being planned for later this summer. Part II will include a “boots on the ground” panel of farmers and other related panelists. \nRegister for the virtual meeting via Zoom.
URL:https://straffordrpcnh.gov/event/resiliency-roundtable-june-2022/
LOCATION:Zoom
CATEGORIES:Resiliency Subcommittee
ORGANIZER;CN="Autumn Scott":MAILTO:ascott@strafford.org
END:VEVENT
END:VCALENDAR